BEGIN:VCALENDAR
VERSION:2.0
PRODID:-//ChamberMaster//Event Calendar 2.0//EN
METHOD:PUBLISH
X-PUBLISHED-TTL:P3D
REFRESH-INTERVAL:P3D
CALSCALE:GREGORIAN
BEGIN:VEVENT
DTSTART:20220507T170000Z
DTEND:20220507T200000Z
X-MICROSOFT-CDO-ALLDAYEVENT:FALSE
SUMMARY:Community Cleanup
DESCRIPTION:Join the Worcester Green Corps for a community cleanup along Millbrook Street. Volunteers will be provided with equipment and refreshments during the event.
X-ALT-DESC;FMTTYPE=text/html:Join the Worcester Green Corps for a community cleanup along Millbrook Street. Volunteers will be provided with equipment and refreshments during the event.&nbsp\;
LOCATION:We will be meeting at the parking lot near 67 Millbrook Street
UID:e.2083.13932
SEQUENCE:3
DTSTAMP:20260421T215041Z
URL:https://business.cmschamber.org/events/details/community-cleanup-13932
END:VEVENT

END:VCALENDAR
