BEGIN:VCALENDAR
VERSION:2.0
PRODID:-//ChamberMaster//Event Calendar 2.0//EN
METHOD:PUBLISH
X-PUBLISHED-TTL:P3D
REFRESH-INTERVAL:P3D
CALSCALE:GREGORIAN
BEGIN:VEVENT
DTSTART:20220630T220000Z
DTEND:20220701T000000Z
X-MICROSOFT-CDO-ALLDAYEVENT:FALSE
SUMMARY:Complimentary Optimizing Your Tax Strategy & Surviving Market Volatility Seminar
DESCRIPTION:Register Now:\n\nhttps://taxesdeclassified.com/shrewsbury-ma-june-2022-workshop/
X-ALT-DESC;FMTTYPE=text/html:Register Now:<br />\nhttps://taxesdeclassified.com/shrewsbury-ma-june-2022-workshop/
LOCATION:609 Main Street\, Shrewsbury\, MA 01545
UID:e.2083.13971
SEQUENCE:3
DTSTAMP:20260421T202712Z
URL:https://business.cmschamber.org/events/details/complimentary-optimizing-your-tax-strategy-surviving-market-volatility-seminar-13971
END:VEVENT

END:VCALENDAR
