BEGIN:VCALENDAR
VERSION:2.0
PRODID:-//ChamberMaster//Event Calendar 2.0//EN
METHOD:PUBLISH
X-PUBLISHED-TTL:P3D
REFRESH-INTERVAL:P3D
CALSCALE:GREGORIAN
BEGIN:VEVENT
DTSTART:20191115T150000Z
DTEND:20191115T170000Z
X-MICROSOFT-CDO-ALLDAYEVENT:FALSE
SUMMARY:Considerations for Website Design
DESCRIPTION:Your website is often your customers' first impression of you and your business.  It is your opportunity to showcase your brand and what makes you unique.  Be sure it's right!  Join us for an overview of the elements that make a successful website.
X-ALT-DESC;FMTTYPE=text/html:<span style="color:rgb(0\, 0\, 0)\; font-family:source sans pro\,arial\,helvetica\,sans-serif\; font-size:16.8px">Your website is often your customers&rsquo\; first impression of you and your business.&nbsp\; It is your opportunity to showcase your brand and what makes you unique.&nbsp\; Be sure it&rsquo\;s right!&nbsp\; Join us for an overview of the elements that make a successful website.</span>
LOCATION:CWE Central MA 69 Milk St.\, Suite 217 Westborough\, MA 01581
UID:e.2083.10364
SEQUENCE:3
DTSTAMP:20260423T193323Z
URL:https://business.cmschamber.org/events/details/considerations-for-website-design-10364
END:VEVENT

END:VCALENDAR
