BEGIN:VCALENDAR
VERSION:2.0
PRODID:-//ChamberMaster//Event Calendar 2.0//EN
METHOD:PUBLISH
X-PUBLISHED-TTL:P3D
REFRESH-INTERVAL:P3D
CALSCALE:GREGORIAN
BEGIN:VEVENT
DTSTART:20220915T160000Z
DTEND:20220915T170000Z
X-MICROSOFT-CDO-ALLDAYEVENT:FALSE
SUMMARY:Construction & Real Estate Roundtable 9/15/22 Real Estate Tax Credits
DESCRIPTION:Please join the Worcester Regional Chamber of Commerce in welcoming Bob Dorfman of Dorfman Capital and Michael O'Mara of Ozone Capital Markets to our Q3 Construction & Real Estate Roundtable!\n\n\n\nBoth Bob and Mike have years of experience in getting results for their clients who are looking to finance development projects with tax credits. Bob has expertise in historic tax credits\, housing development incentive program tax credits\, and brownfields tax credits. Mike has expertise in financing and investing in projects that are located in Opportunity Zones around the country.
X-ALT-DESC;FMTTYPE=text/html:Please join the Worcester Regional Chamber of Commerce in welcoming Bob Dorfman of Dorfman Capital and Michael O&#39\;Mara of Ozone Capital Markets to our Q3 Construction &amp\; Real Estate Roundtable!<br />\n<br />\nBoth Bob and Mike have years of experience in getting results for their clients who are looking to finance development projects with tax credits. Bob has expertise in historic tax credits\, housing development incentive program tax credits\, and brownfields tax credits. Mike has expertise in financing and investing in projects that are located in Opportunity Zones around the country.
LOCATION:In-person at Chamber office
UID:e.2083.13958
SEQUENCE:3
DTSTAMP:20260421T173859Z
URL:https://business.cmschamber.org/events/details/construction-real-estate-roundtable-9-15-22-real-estate-tax-credits-13958
END:VEVENT

END:VCALENDAR
