BEGIN:VCALENDAR
VERSION:2.0
PRODID:-//ChamberMaster//Event Calendar 2.0//EN
METHOD:PUBLISH
X-PUBLISHED-TTL:P3D
REFRESH-INTERVAL:P3D
CALSCALE:GREGORIAN
BEGIN:VEVENT
DTSTART:20210907T160000Z
DTEND:20210907T170000Z
X-MICROSOFT-CDO-ALLDAYEVENT:FALSE
SUMMARY:Construction & Real Estate Roundtable 9/7/21
DESCRIPTION:Please join the Worcester Regional Chamber of Commerce as we welcome Maugel Architects to speak at our Q3 Construction & Real Estate Roundtable! Maugel Architects is a local architectural firm serving a wide range of industries\, including commercial\, life sciences\, multifamily housing\, healthcare\, and industrial. Maugel has served the New England region for nearly 30 years and has experience in designing for the Wachusett Brew Yard at Worcester Public Market\, 222 Brooks St Apartments in Worcester\, DCU HQ in Marlborough\, and Fidelity Bank HQ in Leominster.\n\n\n\nPresident and founder Brent Maugel and Principal Mark Pelletier will discuss Maugel's experience with designing life sciences and multifamily housing in Worcester and how they design space use in those markets given current trends in economic development. Join us for this exciting lunchtime event!\n10.1.3
X-ALT-DESC;FMTTYPE=text/html:Please join the Worcester Regional Chamber of Commerce as we welcome Maugel Architects to speak at our Q3 Construction &amp\; Real Estate Roundtable! Maugel Architects is a local architectural firm serving a wide range of industries\, including commercial\, life sciences\, multifamily housing\, healthcare\, and industrial. Maugel has served the New England region for nearly 30 years and has experience in designing for the Wachusett Brew Yard at Worcester Public Market\, 222 Brooks St Apartments in Worcester\, DCU HQ in Marlborough\, and Fidelity Bank HQ in Leominster.<br />\n<br />\nPresident and founder Brent Maugel and Principal Mark Pelletier will discuss Maugel&#39\;s experience with designing life sciences and multifamily housing in Worcester and how they design space use in those markets given current trends in economic development. Join us for this exciting lunchtime event!\n<div id="fpCE_version" style="display:none">10.1.3</div>\n
LOCATION:In-person at the Chamber's office. For everyone's safety\, we ask that you please wear a mask at all times indoors at the Chamber's office regardless of vaccination status. They can be removed for eating and drinking but otherwise must be secured over the nose and mouth. Thank you for your understanding and cooperation.
UID:e.2083.12946
SEQUENCE:3
DTSTAMP:20260422T090124Z
URL:https://business.cmschamber.org/events/details/construction-real-estate-roundtable-9-7-21-12946
END:VEVENT

END:VCALENDAR
