BEGIN:VCALENDAR
VERSION:2.0
PRODID:-//ChamberMaster//Event Calendar 2.0//EN
METHOD:PUBLISH
X-PUBLISHED-TTL:P3D
REFRESH-INTERVAL:P3D
CALSCALE:GREGORIAN
BEGIN:VEVENT
DTSTART:20200515T160000Z
DTEND:20200515T170000Z
X-MICROSOFT-CDO-ALLDAYEVENT:FALSE
SUMMARY:Covid-19 Resuming Operations Webinar
DESCRIPTION:Best Practices for Resuming Operations\n		\n		\n			 \n			\n\n			Reducing the risk of exposure to COVID-19 by cleaning and disinfection is an important part of reopening public spaces and workplaces that requires careful planning.\n\n			 \n\n			JOIN ECOLAB EXPERT Kaycee Strewler as she discusses best practices and enhanced procedures to keep your properties clean\, safe\, and healthy as you prepare to resume full operations.
X-ALT-DESC;FMTTYPE=text/html:<table border="0" cellpadding="0" cellspacing="0" style="background:white">\n	<tbody>\n		<tr>\n			<td style="height:5px\; width:14px">&nbsp\;</td>\n			<td style="height:5px\; width:696px"><strong><span style="color:#007AC9"><span style="font-family:arial\,sans-serif"><span style="font-size:30.0pt">Best Practices for Resuming Operations</span></span></span></strong></td>\n		</tr>\n		<tr>\n			<td style="height:59px\; width:14px">&nbsp\;</td>\n			<td style="height:59px\; width:696px"><br />\n			<span style="color:#595959"><span style="font-family:arial\,sans-serif"><span style="font-size:16.0pt">Reducing the risk of exposure to COVID-19 by cleaning and disinfection is an important part of reopening public spaces and workplaces that requires careful planning.</span></span></span><br />\n			&nbsp\;<br />\n			<span style="color:#595959"><span style="font-family:arial\,sans-serif"><span style="font-size:16.0pt">JOIN ECOLAB EXPERT Kaycee Strewler as she discusses best practices and enhanced procedures to keep your properties clean\, safe\, and healthy as you prepare to resume full operations.</span></span></span><br />\n			&nbsp\;<br />\n			&nbsp\;</td>\n		</tr>\n	</tbody>\n</table>\n
LOCATION:https://urldefense.com/v3/__https://ecl.webex.com/ecl/onstage/g.php?MTID=e870a543f9417e064c94484b58d796d11__\;!!Nkc5UzxO!7rZYMK9IgT2t0-An2gvThsks29g1ZUU9ir9D6DZ-SVlsSE8O4ryWd9rwITiC0CGpO3QcVjY$
UID:e.2083.12139
SEQUENCE:3
DTSTAMP:20260423T100618Z
URL:https://business.cmschamber.org/events/details/covid-19-resuming-operations-webinar-12139
END:VEVENT

END:VCALENDAR
