BEGIN:VCALENDAR
VERSION:2.0
PRODID:-//ChamberMaster//Event Calendar 2.0//EN
METHOD:PUBLISH
X-PUBLISHED-TTL:P3D
REFRESH-INTERVAL:P3D
CALSCALE:GREGORIAN
BEGIN:VEVENT
DTSTART:20200519T190000Z
DTEND:20200519T200000Z
X-MICROSOFT-CDO-ALLDAYEVENT:FALSE
SUMMARY:Covid-19 Webinar Resuming Operations
DESCRIPTION:Best Practices for Resuming Operations\n		\n		\n			 \n			\n\n			Reducing the risk of exposure to COVID-19 by cleaning and disinfection is an important part of reopening public spaces and workplaces that requires careful planning.\n\n			 \n\n			JOIN ECOLAB EXPERT Kaycee Strewler as she discusses best practices and enhanced procedures to keep your properties clean\, safe\, and healthy as you prepare to resume full operations.
X-ALT-DESC;FMTTYPE=text/html:<table border="0" cellpadding="0" cellspacing="0" style="background:white">\n	<tbody>\n		<tr>\n			<td style="height:5px\; width:14px">&nbsp\;</td>\n			<td style="height:5px\; width:696px"><strong><span style="color:#007AC9"><span style="font-family:arial\,sans-serif"><span style="font-size:30.0pt">Best Practices for Resuming Operations</span></span></span></strong></td>\n		</tr>\n		<tr>\n			<td style="height:59px\; width:14px">&nbsp\;</td>\n			<td style="height:59px\; width:696px"><br />\n			<span style="color:#595959"><span style="font-family:arial\,sans-serif"><span style="font-size:16.0pt">Reducing the risk of exposure to COVID-19 by cleaning and disinfection is an important part of reopening public spaces and workplaces that requires careful planning.</span></span></span><br />\n			&nbsp\;<br />\n			<span style="color:#595959"><span style="font-family:arial\,sans-serif"><span style="font-size:16.0pt">JOIN ECOLAB EXPERT Kaycee Strewler as she discusses best practices and enhanced procedures to keep your properties clean\, safe\, and healthy as you prepare to resume full operations.</span></span></span><br />\n			&nbsp\;<br />\n			&nbsp\;</td>\n		</tr>\n	</tbody>\n</table>\n
LOCATION:https://ecl.webex.com/mw3300/mywebex/default.do?nomenu=true&siteurl=ecl&service=6&rnd=0.37350521791751834&main_url=https%3A%2F%2Fecl.webex.com%2Fec3300%2Feventcenter%2Fevent%2FeventAction.do%3FtheAction%3Ddetail%26%26%26EMK%3D4832534b000000045fda0c995e8b38f3769bcd49d3c677034b2de39e5a6a948ef69a0918a23a6c0e%26siteurl%3Decl%26confViewID%3D160513970112835307%26encryptTicket%3DSDJTSwAAAAQUHZ7ohEicEnBLjhCSI_CdUXUL1TDYe7GuvhN2Cqe97A2%26
UID:e.2083.12140
SEQUENCE:3
DTSTAMP:20260423T100547Z
URL:https://business.cmschamber.org/events/details/covid-19-webinar-resuming-operations-12140
END:VEVENT

END:VCALENDAR
