BEGIN:VCALENDAR
VERSION:2.0
PRODID:-//ChamberMaster//Event Calendar 2.0//EN
METHOD:PUBLISH
X-PUBLISHED-TTL:P3D
REFRESH-INTERVAL:P3D
CALSCALE:GREGORIAN
BEGIN:VEVENT
DTSTART:20221019T140000Z
DTEND:20221020T181500Z
X-MICROSOFT-CDO-ALLDAYEVENT:FALSE
SUMMARY:CWE Women Business Leaders Conference ft. Women of Color Business Summit
DESCRIPTION:When women\, especially Black and Latinx women\, are successful everyone wins. As local economies and businesses begin to recover from the downturn attributed to the pandemic\, it is time we acknowledge women's substantial roles in building\, growing\, and sustaining their communities through business. We know that when women succeed\, communities are changed for the better jobs are created and opportunity is extended to marginalized communities\, tax income is generated for municipalities\, and women become more civically engaged\, leading to more representation in government. With 70% of households in communities of color being run by women\, it is even more important we help women of color succeed. This year\, CWE invites you to learn how to maximize your impact and transform your community.\n\nCWE's Virtual Women Business Leaders Conference featuring the Women of Color Business Summit is the premier event for women in business\, bringing together more than 350 women business leaders\, owners\, entrepreneurs\, community leaders\, supplier diversity teams\, and purchasing professionals.\n\n2022 Conference Features\n\n\n	\n	Workshops\, and panel discussions led by knowledgeable experts. \n	\n	\n	Women of Color Business Summit (October 20). Includes forums\, panels and workshops specifically addressing the needs of women of color entrepreneurs and business leaders of color. \n	\n	Keynote Speakers\n\n\n\n	WBENC Matchmaker-Mentor Session. Exclusive\, invite-only session for WBENC-Certified businesses. \n	Ample opportunities to network and make new connections. \n\n\nWomen of Color Business Summit\n\nOctober 20\, 2022 | 10:00 AM-2:15 PM\n\nThe Women of Color Business Summit was established to focus on the development\, success\, and highlights of women of color entrepreneurs and business leaders\, who have been most impacted by COVID-19. Developed by and for women of  color\, the summit provides a space and opportunity to address the unique challenges\, concerns\, and issues facing one of today's fastest-growing--yet least supported--groups of entrepreneurs and business leaders. Our goal is to leave attendees with expanded networks and practical tools to help them succeed in their business endeavors and strengthen their communities.\n\n\n\nRegister Here.
X-ALT-DESC;FMTTYPE=text/html:<h3>When women\, especially Black and Latinx women\, are successful everyone wins. As local economies and businesses begin to recover from the downturn attributed to the pandemic\, it is time we acknowledge women&rsquo\;s substantial roles in building\, growing\, and sustaining their communities through business. We know that when women succeed\, communities are changed for the better&mdash\;jobs are created and opportunity is extended to marginalized communities\, tax income is generated for municipalities\, and women become more civically engaged\, leading to more representation in government. With 70% of households in communities of color being run by women\, it is even more important we help women of color succeed. This year\, CWE invites you to learn how to maximize your impact and transform your community.</h3>\n\n<p>CWE&rsquo\;s Virtual Women&nbsp\;Business Leaders&nbsp\;Conference featuring the Women of Color Business Summit is the premier event for women in business\, bringing together more than 350 women business leaders\, owners\, entrepreneurs\, community leaders\, supplier diversity teams\, and purchasing professionals.</p>\n\n<h2>2022&nbsp\;Conference Features</h2>\n\n<ul>\n	<li>\n	<p>Workshops\, and panel discussions led by knowledgeable experts.&nbsp\;</p>\n	</li>\n	<li>\n	<p>Women of Color Business Summit (October 20). Includes forums\, panels and workshops specifically addressing the needs of women of color entrepreneurs and business leaders of color.&nbsp\;</p>\n	</li>\n	<li>Keynote Speakers</li>\n</ul>\n\n<ul>\n	<li>WBENC Matchmaker-Mentor Session. Exclusive\, invite-only session for WBENC-Certified businesses.&nbsp\;</li>\n	<li>Ample opportunities to network and make new connections.&nbsp\;</li>\n</ul>\n\n<h2>Women of Color Business Summit</h2>\n\n<h3>October 20\, 2022&nbsp\;| 10:00 AM-2:15&nbsp\;PM</h3>\n\n<p>The Women of Color Business Summit was established to focus on the development\, success\, and highlights of women of color entrepreneurs and business leaders\, who have been most impacted by COVID-19.&nbsp\;<strong>Developed by and for women of &nbsp\;color\, the summit provides a space and opportunity to address the unique challenges\, concerns\, and issues facing one of today&rsquo\;s fastest-growing--yet least supported--groups of entrepreneurs and business leaders.&nbsp\;</strong>Our goal is to leave attendees with expanded networks and practical tools to help them succeed in their business endeavors and strengthen their communities.<br />\n<br />\n<strong><a href="https://www.cweonline.org/Learn-Connect/2022-Women-Business-Leaders-Conference-feat-the-Women-of-Color-Business-Summit">Register Here.</a></strong></p>\n
LOCATION:Virtual Event
UID:e.2083.13943
SEQUENCE:3
DTSTAMP:20260421T142905Z
URL:https://business.cmschamber.org/events/details/cwe-women-business-leaders-conference-ft-women-of-color-business-summit-13943
END:VEVENT

END:VCALENDAR
