BEGIN:VCALENDAR
VERSION:2.0
PRODID:-//ChamberMaster//Event Calendar 2.0//EN
METHOD:PUBLISH
X-PUBLISHED-TTL:P3D
REFRESH-INTERVAL:P3D
CALSCALE:GREGORIAN
BEGIN:VEVENT
DTSTART:20231025T120000Z
DTEND:20231025T133000Z
X-MICROSOFT-CDO-ALLDAYEVENT:FALSE
SUMMARY:Cybersecurity and Cyber-Liability Insurance Seminar with Paragus IT & Sullivan Group
DESCRIPTION:On Wednesday\, October 25\, join Paragus IT and Sullivan Group Insurance & Risk Management Services for a breakfast session on current developments in cybersecurity and cyber-liability insurance - from risk assessment and management for your business to the latest coverage packages and software programs.\n\nParagus IT and Sullivan Group help businesses all over New England navigate the complicated world of cyberattacks and network/data protection. Don't miss this opportunity to learn from their combined expertise.\n\nA networking session with coffee and delicious doughnuts from local favorite Rocco's Doughnut Company will begin at 8am\, followed by the presentation and Q&A from 8:30-9:30am.  Reserve your spot today\, as space is limited.  https://info.paragusit.com/sullivangroup.
X-ALT-DESC;FMTTYPE=text/html:<p>On Wednesday\, October 25\, join <a href="https://www.paragusit.com/" target="_blank">Paragus IT</a> and&nbsp\;<a href="https://sullivangroup.com" target="_blank"><span style="font-family:arial\,helvetica\,sans-serif">Sullivan Group Insurance &amp\; Risk Management&nbsp\;Services</span></a>&nbsp\;for a breakfast session on current developments in cybersecurity and cyber-liability insurance - from risk assessment and management for your business to the latest coverage packages and software programs.</p>\n\n<p>Paragus IT and Sullivan Group help businesses all over New England navigate the complicated world of cyberattacks and network/data protection. Don&#39\;t miss this opportunity to learn from their combined expertise.</p>\n\n<p>A networking session with coffee and delicious doughnuts from local favorite Rocco&#39\;s Doughnut Company will begin at 8am\, followed by the presentation and Q&amp\;A from 8:30-9:30am.&nbsp\; Reserve your spot today\, as space is limited.&nbsp\;&nbsp\;<a href="https://info.paragusit.com/sullivangroup" target="_blank">https://info.paragusit.com/sullivangroup</a><span style="color:rgb(255\, 255\, 255)">.</span></p>\n
LOCATION:Join us at 1 Mercantile Street\, Worcester\, MA 01608 in the Paul Revere Room on the first floor. This location was formerly known as the Unum Building\, but has now been rebranded as One Mercantile.
UID:e.2083.16696
SEQUENCE:3
DTSTAMP:20260420T190838Z
URL:https://business.cmschamber.org/events/details/cybersecurity-and-cyber-liability-insurance-seminar-with-paragus-it-sullivan-group-16696
END:VEVENT

END:VCALENDAR
