BEGIN:VCALENDAR
VERSION:2.0
PRODID:-//ChamberMaster//Event Calendar 2.0//EN
METHOD:PUBLISH
X-PUBLISHED-TTL:P3D
REFRESH-INTERVAL:P3D
CALSCALE:GREGORIAN
BEGIN:VEVENT
DTSTART:20211012T190000Z
DTEND:20211012T200000Z
X-MICROSOFT-CDO-ALLDAYEVENT:FALSE
SUMMARY:Defining Scopes of Work (What To Do/Not To Do)
DESCRIPTION:Have you ever struggled with creating a scope of work for a client?\n\nWhat about struggling with "scope creep?"  What do you do when a client asks for something that is not in the agreement?\n\nThis workshop will help you write scopes of work and also review strategies for dealing with "scope creep."  We will look at exemplar scopes of work\, practice writing scopes of work\, discuss scope creep\, and discuss strategies for dealing with scope creep.  There will also be time in small groups for role playing or discussing scenarios.  Finally\, we will provide space and time for Q&A.  \n\nOur instructor will be Elana Feinberg. Elena has over 15 years of experience in education and currently works as a consultant focusing on designing and redesigning schools in order to prepare all students to succeed in a global workplace. For more details\, visit her Website!
X-ALT-DESC;FMTTYPE=text/html:<p><strong>Have you ever struggled with creating a scope of work for a client?</strong></p>\n\n<p>What about&nbsp\;struggling with &quot\;scope creep?&quot\;&nbsp\; What do you do when a client asks for&nbsp\;something that is not in the agreement?</p>\n\n<p>This workshop will help you write scopes of work and also review&nbsp\;strategies for dealing with &quot\;scope creep.&quot\;&nbsp\; We will look at exemplar scopes of work\, practice writing scopes of work\, discuss&nbsp\;scope creep\, and discuss strategies for dealing with scope creep.&nbsp\; There will also be time in small groups for role playing or discussing scenarios.&nbsp\; Finally\, we will provide space and time for Q&amp\;A.&nbsp\;&nbsp\;</p>\n\n<p>Our instructor will be&nbsp\;<strong>Elana Feinberg.</strong>&nbsp\;Elena has over 15 years of experience in education and currently works as a consultant focusing on designing and redesigning schools in order to prepare all students to succeed in a global workplace. For more details\, visit her&nbsp\;<a href="https://www.elanafeinberg.com/about" style="color: rgb(45\, 119\, 179)\; text-decoration-line: none\;">Website</a>!</p>\n
LOCATION:Online.
UID:e.2083.13164
SEQUENCE:3
DTSTAMP:20260422T075328Z
URL:https://business.cmschamber.org/events/details/defining-scopes-of-work-what-to-do-not-to-do-13164
END:VEVENT

END:VCALENDAR
