BEGIN:VCALENDAR
VERSION:2.0
PRODID:-//ChamberMaster//Event Calendar 2.0//EN
METHOD:PUBLISH
X-PUBLISHED-TTL:P3D
REFRESH-INTERVAL:P3D
CALSCALE:GREGORIAN
BEGIN:VEVENT
DTSTART:20230601T140000Z
DTEND:20230601T153000Z
X-MICROSOFT-CDO-ALLDAYEVENT:FALSE
SUMMARY:Developing a Dynamic Capability Statement
DESCRIPTION:Attend this informative and FREE webinar to learn the importance of developing a robust capability statement when targeting the government marketplace.  A focused\, well-prepared capability statement (CS) will assist you in marketing your products & services to large businesses with supplier diversity programs\, federal agencies and other similar markets. A CS is an effective\, inexpensive marketing tool used to quickly highlight your strengths & "capabilities" when marketing and representing your small business.  Please join us for ideas and tips so you too can Develop a Dynamic Capability Statement for your future marketing outreach.
X-ALT-DESC;FMTTYPE=text/html:<span style="color:rgb(0\, 0\, 0)\; font-family:lato\,arial\,helvetica\,sans-serif\; font-size:16px">Attend this informative and FREE&nbsp\;webinar&nbsp\;to learn the importance of developing a robust&nbsp\;capability&nbsp\;statement&nbsp\;when targeting the government marketplace.&nbsp\; A focused\, well-prepared&nbsp\;capability&nbsp\;statement&nbsp\;(CS) will assist you in marketing your products &amp\; services to large businesses with supplier diversity programs\, federal agencies and other similar markets. A CS is an effective\, inexpensive marketing tool used to quickly highlight your strengths &amp\; &quot\;capabilities&quot\; when marketing and representing your small business.&nbsp\; Please join us for ideas and tips so you too can Develop a Dynamic&nbsp\;Capability&nbsp\;Statement for your future marketing outreach.</span>
LOCATION:Zoom
UID:e.2083.15956
SEQUENCE:3
DTSTAMP:20260421T004506Z
URL:https://business.cmschamber.org/events/details/developing-a-dynamic-capability-statement-15956
END:VEVENT

END:VCALENDAR
