BEGIN:VCALENDAR
VERSION:2.0
PRODID:-//ChamberMaster//Event Calendar 2.0//EN
METHOD:PUBLISH
X-PUBLISHED-TTL:P3D
REFRESH-INTERVAL:P3D
CALSCALE:GREGORIAN
BEGIN:VEVENT
DTSTART;VALUE=DATE:20220405
DTEND;VALUE=DATE:20220407
TRANSP:TRANSPARENT
X-MICROSOFT-CDO-ALLDAYEVENT:TRUE
SUMMARY:Digital Federal Credit Union (DCU) Virtual Career Fair
DESCRIPTION:DCU is holding a Virtual Career Open House on Tuesday\, April 5th and Wednesday\, April 6th. Join us for a one-hour information session to learn about current full and part-time positions in our Branches and Call Center. Are you looking to work for a company that puts employees first? DCU does just that! We want to share with you what sets us apart from other companies (and jobs) - our culture\, benefits\, and how we strive to make a difference for our members and our employees. Register here for the Tuesday\, April 5\, 2022\, 1pm - 2pm session: https://dcumeetings.webex.com/webappng/sites/dcumeetings/meeting/info/ce2585f5b3d54795b74a736df607fb8b?isPopupRegisterView=true Or Register here for the Wednesday\, April 6\, 2022\, 10am - 11am session: https://dcumeetings.webex.com/webappng/sites/dcumeetings/meeting/info/8e74cc9c6cce43daa2985d6835e01eb1?isPopupRegisterView=true We are proud to be an EEO/AA Employer. M/F/D/V.
X-ALT-DESC;FMTTYPE=text/html:DCU is holding a Virtual Career Open House on Tuesday\, April 5th and Wednesday\, April 6th. Join us for a one-hour information session to learn about current full and part-time positions in our Branches and Call Center. Are you looking to work for a company that puts employees first? DCU does just that! We want to share with you what sets us apart from other companies (and jobs) - our culture\, benefits\, and how we strive to make a difference for our members and our employees. Register here for the Tuesday\, April 5\, 2022\, 1pm - 2pm session: <a href="https://dcumeetings.webex.com/webappng/sites/dcumeetings/meeting/info/ce2585f5b3d54795b74a736df607fb8b?isPopupRegisterView=true" target="_blank" title="https://dcumeetings.webex.com/webappng/sites/dcumeetings/meeting/info/ce2585f5b3d54795b74a736df607fb8b?isPopupRegisterView=true"><strong>https://dcumeetings.webex.com/webappng/sites/dcumeetings/meeting/info/ce2585f5b3d54795b74a736df607fb8b?isPopupRegisterView=true</strong></a> Or Register here for the Wednesday\, April 6\, 2022\, 10am - 11am session: <a href="https://dcumeetings.webex.com/webappng/sites/dcumeetings/meeting/info/8e74cc9c6cce43daa2985d6835e01eb1?isPopupRegisterView=true" target="_blank" title="https://dcumeetings.webex.com/webappng/sites/dcumeetings/meeting/info/8e74cc9c6cce43daa2985d6835e01eb1?isPopupRegisterView=true"><strong>https://dcumeetings.webex.com/webappng/sites/dcumeetings/meeting/info/8e74cc9c6cce43daa2985d6835e01eb1?isPopupRegisterView=true</strong></a> We are proud to be an EEO/AA Employer. M/F/D/V.<br />\n&nbsp\;
LOCATION:Virtual
UID:e.2083.13871
SEQUENCE:3
DTSTAMP:20260421T232823Z
URL:https://business.cmschamber.org/events/details/digital-federal-credit-union-dcu-virtual-career-fair-13871
END:VEVENT

END:VCALENDAR
