BEGIN:VCALENDAR
VERSION:2.0
PRODID:-//ChamberMaster//Event Calendar 2.0//EN
METHOD:PUBLISH
X-PUBLISHED-TTL:P3D
REFRESH-INTERVAL:P3D
CALSCALE:GREGORIAN
BEGIN:VEVENT
DTSTART:20220224T130000Z
DTEND:20220224T150000Z
X-MICROSOFT-CDO-ALLDAYEVENT:FALSE
SUMMARY:Diverse Professional Roundtable - Business Meeting
DESCRIPTION:The DPR Business Meeting is open for all DPR Members.  We encourage all to participate in this very important meeting as we will be discussing the years Signature events as well as voting on the following seats: President\, Vice President\, Secretary\, Membership Chair\, Events Chair and Program Chair
X-ALT-DESC;FMTTYPE=text/html:<p>The DPR Business Meeting is open for all DPR Members.&nbsp\; We encourage all&nbsp\;to participate in this very important meeting as we will be discussing the years Signature events as well as voting on the following seats: President\, Vice President\, Secretary\, Membership Chair\, Events Chair and Program Chair<br />\n<br />\n&nbsp\;</p>\n
LOCATION:Join Zoom Meeting https://us06web.zoom.us/j/89702538955?pwd=bG9OSkVYQnVRK1UvQWY2S3paYnlOZz09 Meeting ID: 897 0253 8955 Passcode: 729683 One tap mobile +16465588656\,\,89702538955# US (New York) +13017158592\,\,89702538955# US (Washington DC) Dial by your location +1 646 558 8656 US (New York) +1 301 715 8592 US (Washington DC) +1 312 626 6799 US (Chicago) +1 720 707 2699 US (Denver) +1 253 215 8782 US (Tacoma) +1 346 248 7799 US (Houston) Meeting ID: 897 0253 8955 Stefanie Silva Programs and Events Coordinator Worcester Regional Chamber of Commerce 508.753.2924\, ext. 224 | ssilva@worcesterchamber.org 311 Main Street\, Suite 200 | Worcester\, MA 01608 www.worcesterchamber.org | Subscribe to our E-News
UID:e.2083.13690
SEQUENCE:3
DTSTAMP:20260422T022256Z
URL:https://business.cmschamber.org/events/details/diverse-professional-roundtable-business-meeting-13690
END:VEVENT

END:VCALENDAR
