BEGIN:VCALENDAR
VERSION:2.0
PRODID:-//ChamberMaster//Event Calendar 2.0//EN
METHOD:PUBLISH
X-PUBLISHED-TTL:P3D
REFRESH-INTERVAL:P3D
CALSCALE:GREGORIAN
BEGIN:VEVENT
DTSTART:20240215T140000Z
DTEND:20240215T160000Z
X-MICROSOFT-CDO-ALLDAYEVENT:FALSE
SUMMARY:Diverse Professional Roundtable - Business Meeting
DESCRIPTION:The DPR Business Meeting is open for all DPR Members.  We encourage all to participate in this very important meeting as we will be discussing the year's Signature events.
X-ALT-DESC;FMTTYPE=text/html:<p>The DPR Business Meeting is open for all DPR Members.&nbsp\; We encourage all&nbsp\;to participate in this very important meeting as we will be discussing the year&#39\;s Signature events.</p>\n
LOCATION:Worcester Regional Chamber of Commerce
UID:e.2083.17111
SEQUENCE:3
DTSTAMP:20260420T102706Z
URL:https://business.cmschamber.org/events/details/diverse-professional-roundtable-business-meeting-17111
END:VEVENT

END:VCALENDAR
