BEGIN:VCALENDAR
VERSION:2.0
PRODID:-//ChamberMaster//Event Calendar 2.0//EN
METHOD:PUBLISH
X-PUBLISHED-TTL:P3D
REFRESH-INTERVAL:P3D
CALSCALE:GREGORIAN
BEGIN:VEVENT
DTSTART:20200206T133000Z
DTEND:20200207T030000Z
X-MICROSOFT-CDO-ALLDAYEVENT:FALSE
SUMMARY:Diverse Professionals Roundtable - Member Meeting
DESCRIPTION:Don't miss the opportunity to meet with other diverse professionals in our community. \n\n\n\nMission Statement\n\nDiverse Professionals Roundtable (DPR) is a professional program of the Worcester Regional Chamber of Commerce\, committed to the development of professional and personal relationships among leaders of racial and ethnic diversity in Central Massachusetts.  The program serves as a resource for the vibrant business\, educational\, and civic community of Central Massachusetts on diversity-related issues critical to building inclusive organizations and peaceful communities.  Through roundtable discussions and planned events targeted to advancing diversity and encouraging underrepresented emerging professionals\, DPR members grow and expand their influence and make a positive impact on the Worcester community. \n\n\n\nEligibility for Membership - An individual must be a professional leader of color in the Worcester regional area:\n\n\n	Leaders in their organization\n	Leaders in their field\n	Leaders in civic and community activities\n	Leaders with established and meaningful spheres of influence
X-ALT-DESC;FMTTYPE=text/html:<p><span style="font-size:14px\;">Don&#39\;t miss the opportunity to meet with other&nbsp\;diverse professionals&nbsp\;in our community.&nbsp\;</span><br />\n<br />\n<strong><span style="font-size:10.0pt\;">Mission Statement</span></strong><br />\n<strong><em><span style="font-size:10.0pt\;">Diverse Professionals Roundtable</span></em></strong><span style="font-size:10.0pt\;"> (DPR) is a professional program of the Worcester Regional Chamber of Commerce\, committed to the development of professional and personal relationships among leaders of racial and ethnic diversity in Central Massachusetts.&nbsp\; The program serves as a resource for the vibrant business\, educational\, and civic community of Central Massachusetts on diversity-related issues critical to building inclusive organizations and peaceful communities.&nbsp\; Through roundtable discussions and planned events targeted to advancing diversity and encouraging underrepresented emerging professionals\, DPR members grow and expand their influence and make a positive impact on the Worcester community.&nbsp\;<br />\n<br />\n<em><strong><span style="font-family:calibri\,sans-serif\;">Eligibility for Membership</span></strong></em></span><em><span style="font-family:calibri\,sans-serif\;"> - An individual must be a professional leader of color in the Worcester regional area:</span></em></p>\n\n<ul>\n	<li><em><span style="font-size:10.0pt\;">Leaders in their organization</span></em></li>\n	<li><em><span style="font-size:10.0pt\;">Leaders in their field</span></em></li>\n	<li><em><span style="font-size:10.0pt\;">Leaders in civic and community activities</span></em></li>\n	<li><em><span style="font-size:10.0pt\;">Leaders with established and meaningful spheres of influence</span></em></li>\n</ul>\n
LOCATION:Worcester Regional Chamber of Commerce George F. & Sybil H. Fuller Conference Room 311 Main Street - Suite 200 Worcester
UID:e.2083.11663
SEQUENCE:3
DTSTAMP:20260423T161845Z
URL:https://business.cmschamber.org/events/details/diverse-professionals-roundtable-member-meeting-11663
END:VEVENT

END:VCALENDAR
