BEGIN:VCALENDAR
VERSION:2.0
PRODID:-//ChamberMaster//Event Calendar 2.0//EN
METHOD:PUBLISH
X-PUBLISHED-TTL:P3D
REFRESH-INTERVAL:P3D
CALSCALE:GREGORIAN
BEGIN:VEVENT
DTSTART:20210919T150000Z
DTEND:20210919T180000Z
X-MICROSOFT-CDO-ALLDAYEVENT:FALSE
SUMMARY:DogFest New England
DESCRIPTION:Canine Companions DogFest is coming to you! So grab your dog and get ready to have a tail-waggin' good time! We'll change lives\, four paws at a time . Join us at Polar Park\, the new home of the Worcester Red Sox ("WooSox") on Sunday\, September 19\, 2021 for DogFest New England 2021 benefiting Canine Companions. Furry friends and their families are invited to join us for a day of service dog demos\, contests\, vendors\, local mascots\, great food\, music\, surprises and much more! Register for free at www.canine.org/DogFestNewEngland to receive a FREE DogFest bandana for your dog! Can't make it in-person? We'll have fun virtual activities\, too! Canine Companions provides expertly trained service dogs to adults\, children and veterans with disabilities FREE of charge. Join us to celebrate the community of people and dogs that make it possible for Canine Companions to show that the most advanced technology capable of transforming the lives of people with disabilities has a cold nose and a warm heart. We will continue to monitor CDC and local health guidelines related to COVID-19 and will provide any event updates on our website. Join the fun on Sunday\, September 19\, 2021!
X-ALT-DESC;FMTTYPE=text/html:Canine Companions DogFest is coming to you! So grab your dog and get ready to have a tail-waggin&rsquo\; good time! We&rsquo\;ll change lives\, four paws at a time&trade\;. Join us at Polar Park\, the new home of the Worcester Red Sox (&ldquo\;WooSox&rdquo\;) on Sunday\, September 19\, 2021 for DogFest New England 2021 benefiting Canine Companions. Furry friends and their families are invited to join us for a day of service dog demos\, contests\, vendors\, local mascots\, great food\, music\, surprises and much more! Register for free at www.canine.org/DogFestNewEngland to receive a FREE DogFest bandana for your dog! Can&rsquo\;t make it in-person? We&rsquo\;ll have fun virtual activities\, too! Canine Companions provides expertly trained service dogs to adults\, children and veterans with disabilities FREE of charge. Join us to celebrate the community of people and dogs that make it possible for Canine Companions to show that the most advanced technology capable of transforming the lives of people with disabilities has a cold nose and a warm heart. We will continue to monitor CDC and local health guidelines related to COVID-19 and will provide any event updates on our website. Join the fun on Sunday\, September 19\, 2021!
LOCATION:Polar Park 100 Madison Street Worcester\, MA 01608
UID:e.2083.12998
SEQUENCE:3
DTSTAMP:20260422T092100Z
URL:https://business.cmschamber.org/events/details/dogfest-new-england-12998
END:VEVENT

END:VCALENDAR
