BEGIN:VCALENDAR
VERSION:2.0
PRODID:-//ChamberMaster//Event Calendar 2.0//EN
METHOD:PUBLISH
X-PUBLISHED-TTL:P3D
REFRESH-INTERVAL:P3D
CALSCALE:GREGORIAN
BEGIN:VEVENT
DTSTART:20230209T130000Z
DTEND:20230209T170000Z
X-MICROSOFT-CDO-ALLDAYEVENT:FALSE
SUMMARY:DOT Drug Testing & Compliance Program - Conference
DESCRIPTION:If your company employs CDL drivers\, it can be challenging to keep your drug testing & compliance program up to date. Complex and changing regulations create pitfalls that can result in hefty penalties or worse. Join ARCpoint Labs for an in-depth conference on how to upgrade your drug testing & compliance program.\n\n\n\nREGISTRATION: https://www.eventbrite.com/e/upgrade-your-dot-drug-testing-compliance-program-tickets-478443255657\n\n\n\nTOPICS\n\nDOT Audits: How to Approach with Preparation & Confidence\n\nFMCSA Clearinghouse: Refresher & January Regulatory Changes\n\nMarijuana & CBD: Trends\, Pitfalls & Best Policy Practices\n\nVehicle Telematics: Next Level Fleet Safety to Protect your Business\n\nH?ire Today\, Drive Tomorrow: Best Hiring Practices for CDL Drivers\n\n\n\nPRESENTERS\n\nGeorge Gilpatrick\, Jr. | Managing Partner | Cahill Swift\n\nJo McGuire | Executive Director | NDASA\n\nJoshua Kelly | President | Fleetwide Consulting\n\nLeslie Prince | Managing Director | Compliance Systems\n\nRepresentative | FMCSA Clearinghouse\n\n\n\nRegistration & Breakfast | 8:00   8:30 am\n\nPresentations | 8:30   12:00 pm
X-ALT-DESC;FMTTYPE=text/html:<span style="color:rgba(0\, 0\, 0\, 0.9)\; font-family:-apple-system\,system-ui\,blinkmacsystemfont\,segoe ui\,roboto\,helvetica neue\,fira sans\,ubuntu\,oxygen\,oxygen sans\,cantarell\,droid sans\,apple color emoji\,segoe ui emoji\,segoe ui emoji\,segoe ui symbol\,lucida grande\,helvetica\,arial\,sans-serif\; font-size:14px">If your company employs CDL drivers\, it can be challenging to keep your drug testing &amp\; compliance program up to date. Complex and changing regulations create pitfalls that can result in hefty penalties or worse. Join&nbsp\;ARCpoint Labs&nbsp\;for an in-depth conference on how to upgrade your drug testing &amp\; compliance program.</span><br />\n<br />\n<u><strong>REGISTRATION:</strong></u>&nbsp\;<span style="color:#0000CD">https://www.eventbrite.com/e/upgrade-your-dot-drug-testing-compliance-program-tickets-478443255657</span><br />\n<br />\n<u><strong><span style="color:rgba(0\, 0\, 0\, 0.9)\; font-family:-apple-system\,system-ui\,blinkmacsystemfont\,segoe ui\,roboto\,helvetica neue\,fira sans\,ubuntu\,oxygen\,oxygen sans\,cantarell\,droid sans\,apple color emoji\,segoe ui emoji\,segoe ui emoji\,segoe ui symbol\,lucida grande\,helvetica\,arial\,sans-serif\; font-size:14px">TOPICS</span></strong></u><br />\n<span style="color:rgba(0\, 0\, 0\, 0.9)\; font-family:-apple-system\,system-ui\,blinkmacsystemfont\,segoe ui\,roboto\,helvetica neue\,fira sans\,ubuntu\,oxygen\,oxygen sans\,cantarell\,droid sans\,apple color emoji\,segoe ui emoji\,segoe ui emoji\,segoe ui symbol\,lucida grande\,helvetica\,arial\,sans-serif\; font-size:14px">DOT Audits: How to Approach with Preparation &amp\; Confidence</span><br />\n<span style="color:rgba(0\, 0\, 0\, 0.9)\; font-family:-apple-system\,system-ui\,blinkmacsystemfont\,segoe ui\,roboto\,helvetica neue\,fira sans\,ubuntu\,oxygen\,oxygen sans\,cantarell\,droid sans\,apple color emoji\,segoe ui emoji\,segoe ui emoji\,segoe ui symbol\,lucida grande\,helvetica\,arial\,sans-serif\; font-size:14px">FMCSA Clearinghouse: Refresher &amp\; January Regulatory Changes</span><br />\n<span style="color:rgba(0\, 0\, 0\, 0.9)\; font-family:-apple-system\,system-ui\,blinkmacsystemfont\,segoe ui\,roboto\,helvetica neue\,fira sans\,ubuntu\,oxygen\,oxygen sans\,cantarell\,droid sans\,apple color emoji\,segoe ui emoji\,segoe ui emoji\,segoe ui symbol\,lucida grande\,helvetica\,arial\,sans-serif\; font-size:14px">Marijuana &amp\; CBD: Trends\, Pitfalls &amp\; Best Policy Practices</span><br />\n<span style="color:rgba(0\, 0\, 0\, 0.9)\; font-family:-apple-system\,system-ui\,blinkmacsystemfont\,segoe ui\,roboto\,helvetica neue\,fira sans\,ubuntu\,oxygen\,oxygen sans\,cantarell\,droid sans\,apple color emoji\,segoe ui emoji\,segoe ui emoji\,segoe ui symbol\,lucida grande\,helvetica\,arial\,sans-serif\; font-size:14px">Vehicle Telematics: Next Level Fleet Safety to Protect your Business</span><br />\n<span style="color:rgba(0\, 0\, 0\, 0.9)\; font-family:-apple-system\,system-ui\,blinkmacsystemfont\,segoe ui\,roboto\,helvetica neue\,fira sans\,ubuntu\,oxygen\,oxygen sans\,cantarell\,droid sans\,apple color emoji\,segoe ui emoji\,segoe ui emoji\,segoe ui symbol\,lucida grande\,helvetica\,arial\,sans-serif\; font-size:14px">H?ire Today\, Drive Tomorrow: Best Hiring Practices for CDL Drivers</span><br />\n<br />\n<u><strong><span style="color:rgba(0\, 0\, 0\, 0.9)\; font-family:-apple-system\,system-ui\,blinkmacsystemfont\,segoe ui\,roboto\,helvetica neue\,fira sans\,ubuntu\,oxygen\,oxygen sans\,cantarell\,droid sans\,apple color emoji\,segoe ui emoji\,segoe ui emoji\,segoe ui symbol\,lucida grande\,helvetica\,arial\,sans-serif\; font-size:14px">PRESENTERS</span></strong></u><br />\n<span style="color:rgba(0\, 0\, 0\, 0.9)\; font-family:-apple-system\,system-ui\,blinkmacsystemfont\,segoe ui\,roboto\,helvetica neue\,fira sans\,ubuntu\,oxygen\,oxygen sans\,cantarell\,droid sans\,apple color emoji\,segoe ui emoji\,segoe ui emoji\,segoe ui symbol\,lucida grande\,helvetica\,arial\,sans-serif\; font-size:14px">George Gilpatrick\, Jr.&nbsp\;| Managing Partner | Cahill Swift</span><br />\n<span style="color:rgba(0\, 0\, 0\, 0.9)\; font-family:-apple-system\,system-ui\,blinkmacsystemfont\,segoe ui\,roboto\,helvetica neue\,fira sans\,ubuntu\,oxygen\,oxygen sans\,cantarell\,droid sans\,apple color emoji\,segoe ui emoji\,segoe ui emoji\,segoe ui symbol\,lucida grande\,helvetica\,arial\,sans-serif\; font-size:14px">Jo McGuire&nbsp\;| Executive Director | NDASA</span><br />\n<span style="color:rgba(0\, 0\, 0\, 0.9)\; font-family:-apple-system\,system-ui\,blinkmacsystemfont\,segoe ui\,roboto\,helvetica neue\,fira sans\,ubuntu\,oxygen\,oxygen sans\,cantarell\,droid sans\,apple color emoji\,segoe ui emoji\,segoe ui emoji\,segoe ui symbol\,lucida grande\,helvetica\,arial\,sans-serif\; font-size:14px">Joshua Kelly&nbsp\;| President | Fleetwide Consulting</span><br />\n<span style="color:rgba(0\, 0\, 0\, 0.9)\; font-family:-apple-system\,system-ui\,blinkmacsystemfont\,segoe ui\,roboto\,helvetica neue\,fira sans\,ubuntu\,oxygen\,oxygen sans\,cantarell\,droid sans\,apple color emoji\,segoe ui emoji\,segoe ui emoji\,segoe ui symbol\,lucida grande\,helvetica\,arial\,sans-serif\; font-size:14px">Leslie Prince&nbsp\;| Managing Director | Compliance Systems</span><br />\n<span style="color:rgba(0\, 0\, 0\, 0.9)\; font-family:-apple-system\,system-ui\,blinkmacsystemfont\,segoe ui\,roboto\,helvetica neue\,fira sans\,ubuntu\,oxygen\,oxygen sans\,cantarell\,droid sans\,apple color emoji\,segoe ui emoji\,segoe ui emoji\,segoe ui symbol\,lucida grande\,helvetica\,arial\,sans-serif\; font-size:14px">Representative&nbsp\;| FMCSA Clearinghouse</span><br />\n<br />\n<span style="color:rgba(0\, 0\, 0\, 0.9)\; font-family:-apple-system\,system-ui\,blinkmacsystemfont\,segoe ui\,roboto\,helvetica neue\,fira sans\,ubuntu\,oxygen\,oxygen sans\,cantarell\,droid sans\,apple color emoji\,segoe ui emoji\,segoe ui emoji\,segoe ui symbol\,lucida grande\,helvetica\,arial\,sans-serif\; font-size:14px">Registration &amp\; Breakfast | 8:00 &ndash\; 8:30 am</span><br />\n<span style="color:rgba(0\, 0\, 0\, 0.9)\; font-family:-apple-system\,system-ui\,blinkmacsystemfont\,segoe ui\,roboto\,helvetica neue\,fira sans\,ubuntu\,oxygen\,oxygen sans\,cantarell\,droid sans\,apple color emoji\,segoe ui emoji\,segoe ui emoji\,segoe ui symbol\,lucida grande\,helvetica\,arial\,sans-serif\; font-size:14px">Presentations | 8:30 &ndash\; 12:00 pm</span><br />\n<br />\n&nbsp\;
LOCATION:Sheraton Framingham Hotel & Conference Center 1657 Worcester Road Framingham\, MA 01701
UID:e.2083.15002
SEQUENCE:3
DTSTAMP:20260421T074555Z
URL:https://business.cmschamber.org/events/details/dot-drug-testing-compliance-program-conference-15002
END:VEVENT

END:VCALENDAR
