BEGIN:VCALENDAR
VERSION:2.0
PRODID:-//ChamberMaster//Event Calendar 2.0//EN
METHOD:PUBLISH
X-PUBLISHED-TTL:P3D
REFRESH-INTERVAL:P3D
CALSCALE:GREGORIAN
BEGIN:VEVENT
DTSTART:20230720T183000Z
DTEND:20230720T230000Z
X-MICROSOFT-CDO-ALLDAYEVENT:FALSE
SUMMARY:DPR Swing into Summer Golf Lessons & Networking Reception
DESCRIPTION:The Diverse Professional Roundtable invites you to "Swing into Summer" with private golf lessons followed by a networking cocktail reception. \n\n\n\nGolf lessons are 2:30-4pm\n\nReception 4-7pm
X-ALT-DESC;FMTTYPE=text/html:The Diverse Professional Roundtable invites you to &quot\;Swing into Summer&quot\; with private golf lessons followed by a networking cocktail reception.&nbsp\;<br />\n<br />\nGolf lessons are 2:30-4pm<br />\nReception 4-7pm
LOCATION:Cyprian Keyes Golf Club 284 E Temple Street Boylston\, MA 01505
UID:e.2083.15993
SEQUENCE:3
DTSTAMP:20260421T004705Z
URL:https://business.cmschamber.org/events/details/dpr-swing-into-summer-golf-lessons-networking-reception-15993
END:VEVENT

END:VCALENDAR
