BEGIN:VCALENDAR
VERSION:2.0
PRODID:-//ChamberMaster//Event Calendar 2.0//EN
METHOD:PUBLISH
X-PUBLISHED-TTL:P3D
REFRESH-INTERVAL:P3D
CALSCALE:GREGORIAN
BEGIN:VEVENT
DTSTART:20230720T200000Z
DTEND:20230720T230000Z
X-MICROSOFT-CDO-ALLDAYEVENT:FALSE
SUMMARY:DPR Swing into Summer Networking Reception ONLY
DESCRIPTION:The Diverse Professional Roundtable invites you to "Swing into Summer" with a networking cocktail reception at Cyprian Keyes Golf Club\n\n\n\nTHIS REGISTERTAION IS FOR THE NETWORKING COCKTAIL RECEPTION ONLY    \n\n\n\nReception 4-7pm
X-ALT-DESC;FMTTYPE=text/html:<span style="color: rgb(51\, 51\, 51)\; font-family: sans-serif\, Arial\, Verdana\, &quot\;Trebuchet MS&quot\;\; font-size: 13px\; background-color: rgb(255\, 255\, 255)\;">The Diverse Professional Roundtable invites you to &quot\;Swing into Summer&quot\; with a networking cocktail reception at Cyprian Keyes Golf Club</span><br />\n<br style="color: rgb(51\, 51\, 51)\; font-family: sans-serif\, Arial\, Verdana\, &quot\;Trebuchet MS&quot\;\; font-size: 13px\;" />\nTHIS REGISTERTAION IS FOR THE NETWORKING COCKTAIL RECEPTION ONLY&nbsp\;&nbsp\;&nbsp\;&nbsp\;<br style="color: rgb(51\, 51\, 51)\; font-family: sans-serif\, Arial\, Verdana\, &quot\;Trebuchet MS&quot\;\; font-size: 13px\;" />\n<br />\n<span style="color: rgb(51\, 51\, 51)\; font-family: sans-serif\, Arial\, Verdana\, &quot\;Trebuchet MS&quot\;\; font-size: 13px\; background-color: rgb(255\, 255\, 255)\;">Reception 4-7pm</span>
LOCATION:Cyprian Keyes Golf Club 284 E Temple St\, Boylston\, MA 01505
UID:e.2083.15994
SEQUENCE:3
DTSTAMP:20260420T224642Z
URL:https://business.cmschamber.org/events/details/dpr-swing-into-summer-networking-reception-only-15994
END:VEVENT

END:VCALENDAR
