BEGIN:VCALENDAR
VERSION:2.0
PRODID:-//ChamberMaster//Event Calendar 2.0//EN
METHOD:PUBLISH
X-PUBLISHED-TTL:P3D
REFRESH-INTERVAL:P3D
CALSCALE:GREGORIAN
BEGIN:VEVENT
DTSTART:20220611T130000Z
DTEND:20220611T180000Z
X-MICROSOFT-CDO-ALLDAYEVENT:FALSE
SUMMARY:Drivin' It Ho(l)me For Health & Education Car Show
DESCRIPTION:DRIVIN' IT HO(L)ME FOR HEALTH & EDUCATION CAR SHOW\n\nSATURDAY\, JUNE 11\, 2022 (RAIN DATE: JUNE 12)\n\nOAKHOLM BREWING CO.\, 80 LAKE ROAD\, BROOKFIELD MA\n\nGENERAL ADMISSION IS FREE!\n\nFEATURING TOUCH-A-TRUCK\, MUSIC\, RAFFLES\, CRAFT BREWS\, FOOD\n\nPRESENTED BY THE CHAMBER OF CENTRAL MASS SOUTH\, HARRINGTON AUXILIARY & OAKHOLM BREWING CO.\n\n$10 PER CAR. REGISTRATION BEGINS AT 9AM.\n\nDo you own a cool convertible\, jacked-up muscle car\, transformed truck or a hot Harley? Come show off your ride at this fun\, family-friendly event. Touch-a-Truck? You sure can! There will be more than 50 fire trucks\, police cars\, a helicopter\, and other specialty vehicles to climb on and take photos for just $5 per family! Enjoy tasty treats from a lineup of food trucks\, beers on tap and music. The Harrington HOW van will be there providing health-related materials.\n\nAll proceeds from the event will enable Harrington Auxiliary and the Chamber of Central Mass South to continue supporting health and education in their communities.\n\nWith thanks to our Premiere Sponsor Lamoureux FORD & our DJ Sponsor ColBro First Aid & Safety Training.
X-ALT-DESC;FMTTYPE=text/html:<p><strong>DRIVIN&#39\; IT HO(L)ME FOR HEALTH &amp\; EDUCATION CAR SHOW</strong><br />\n<strong>SATURDAY\, JUNE 11\, 2022 (RAIN DATE: JUNE 12)</strong><br />\n<strong>OAKHOLM BREWING CO.\, 80 LAKE ROAD\, BROOKFIELD MA</strong></p>\n\n<p><strong>GENERAL ADMISSION IS FREE!</strong><br />\n<strong>FEATURING TOUCH-A-TRUCK\, MUSIC\, RAFFLES\, CRAFT BREWS\, FOOD</strong><br />\nPRESENTED BY THE CHAMBER OF CENTRAL MASS SOUTH\, HARRINGTON AUXILIARY &amp\; OAKHOLM BREWING CO.<br />\n$10 PER CAR. REGISTRATION BEGINS AT 9AM.</p>\n\n<p>Do you own a cool convertible\, jacked-up muscle car\, transformed truck or a hot Harley? Come show off your ride at this fun\, family-friendly event. Touch-a-Truck? You sure can! There will be more than 50 fire trucks\, police cars\, a helicopter\, and other specialty vehicles to climb on and take photos for just $5 per family! Enjoy tasty treats from a lineup of food trucks\, beers on tap and music. The Harrington HOW van will be there providing health-related materials.</p>\n\n<p>All proceeds from the event will enable Harrington Auxiliary and the Chamber of Central Mass South to continue supporting health and education in their communities.</p>\n\n<p><strong>With thanks</strong> to our Premiere Sponsor&nbsp\;<strong><a href="https://www.lamoureuxford.com/" rel="noopener" target="_blank">Lamoureux FORD</a></strong> &amp\; our DJ Sponsor <a href="https://training.colbro.com/" rel="noopener" target="_blank"><strong>ColBro First Aid &amp\; Safety Training</strong></a>.</p>\n
LOCATION:OAKHOLM BREWING CO.\, 80 LAKE ROAD\, BROOKFIELD MA
UID:e.2083.13945
SEQUENCE:3
DTSTAMP:20260421T202827Z
URL:https://business.cmschamber.org/events/details/drivin-it-ho-l-me-for-health-education-car-show-13945
END:VEVENT

END:VCALENDAR
