BEGIN:VCALENDAR
VERSION:2.0
PRODID:-//ChamberMaster//Event Calendar 2.0//EN
METHOD:PUBLISH
X-PUBLISHED-TTL:P3D
REFRESH-INTERVAL:P3D
CALSCALE:GREGORIAN
BEGIN:VEVENT
DTSTART:20221013T133000Z
DTEND:20221013T150000Z
X-MICROSOFT-CDO-ALLDAYEVENT:FALSE
SUMMARY:Ecommerce 101
DESCRIPTION:Learn how to sell online and share your work with a wider audience. This workshop will explore various platforms for your online store and help you determine the best platform to grow your business. You'll also get simple\, actionable tips to make online selling and marketing effective and efficient\, helping you grow your audience without spending hours on social media or thousands of dollars on ads.
X-ALT-DESC;FMTTYPE=text/html:<p>Learn how to sell online and share your work with a wider audience. This workshop will explore various platforms for your online store and help you determine the best platform to grow your business. You&rsquo\;ll also get simple\, actionable tips to make online selling and marketing effective and efficient\, helping you grow your audience without spending hours on social media or thousands of dollars on ads.</p>\n
LOCATION:Zoom
UID:e.2083.14750
SEQUENCE:3
DTSTAMP:20260421T141230Z
URL:https://business.cmschamber.org/events/details/ecommerce-101-14750
END:VEVENT

END:VCALENDAR
