BEGIN:VCALENDAR
VERSION:2.0
PRODID:-//ChamberMaster//Event Calendar 2.0//EN
METHOD:PUBLISH
X-PUBLISHED-TTL:P3D
REFRESH-INTERVAL:P3D
CALSCALE:GREGORIAN
BEGIN:VEVENT
DTSTART:20210414T210000Z
DTEND:20210414T230000Z
X-MICROSOFT-CDO-ALLDAYEVENT:FALSE
SUMMARY:Effective Hiring\, Recruiting and Retention
DESCRIPTION:Have you ever made a "bad hire" - a candidate that looked good on paper and interviewed well but just didn't fit once they joined the organization?  Or have you been the victim of a bad hire made by someone else?  Or worse yet\, have you had to work with a hire whose poor attitude\, bad habits and general lack of respect is tolerated without any disciplinary action?\n\n \n\nThis session will teach you how to not only hire a candidate with the right skills and experience for the job\, how to retain them and  also find one who is the right "fit" for your companies' unique culture and personality.
X-ALT-DESC;FMTTYPE=text/html:<div>Have you ever made a &quot\;bad hire&quot\; - a candidate that looked good on paper and interviewed well but just didn&#39\;t fit once they joined the organization?&nbsp\; Or have you been the victim of a bad hire made by someone else?&nbsp\; Or worse yet\, have you had to work with a hire whose poor attitude\, bad habits and general lack of respect is tolerated without any disciplinary action?</div>\n\n<div>&nbsp\;</div>\n\n<div>This session will teach you how to not only hire a candidate with the right skills and experience for the job\, how to retain them and&nbsp\; also find one who is the right &quot\;fit&quot\; for your companies&#39\; unique culture and personality.&nbsp\;&nbsp\;</div>\n
LOCATION:Online Webinar.
UID:e.2083.12784
SEQUENCE:3
DTSTAMP:20260422T174025Z
URL:https://business.cmschamber.org/events/details/effective-hiring-recruiting-and-retention-12784
END:VEVENT

END:VCALENDAR
