BEGIN:VCALENDAR
VERSION:2.0
PRODID:-//ChamberMaster//Event Calendar 2.0//EN
METHOD:PUBLISH
X-PUBLISHED-TTL:P3D
REFRESH-INTERVAL:P3D
CALSCALE:GREGORIAN
BEGIN:VEVENT
DTSTART:20230520T140000Z
DTEND:20230520T160000Z
X-MICROSOFT-CDO-ALLDAYEVENT:FALSE
SUMMARY:Elm Park Community Cleanup
DESCRIPTION:Join the Worcester Green Corps and the Boy Scouts of America for a morning of community service! We will be beautifying the Elm Park neighborhoods. Please come dressed appropriately for the weather\, with close-toed shoes. All supplies will be provided.
X-ALT-DESC;FMTTYPE=text/html:Join the Worcester Green Corps and the Boy Scouts of America for a morning of community service! We will be beautifying the Elm Park neighborhoods. Please come dressed appropriately for the weather\, with close-toed shoes. All supplies will be provided.
LOCATION:We will be gathering at Elm Park\, on the corner of Elm Street and Russell Street. Ample street parking is available.
UID:e.2083.15504
SEQUENCE:3
DTSTAMP:20260421T024136Z
URL:https://business.cmschamber.org/events/details/elm-park-community-cleanup-15504
END:VEVENT

END:VCALENDAR
