BEGIN:VCALENDAR
VERSION:2.0
PRODID:-//ChamberMaster//Event Calendar 2.0//EN
METHOD:PUBLISH
X-PUBLISHED-TTL:P3D
REFRESH-INTERVAL:P3D
CALSCALE:GREGORIAN
BEGIN:VEVENT
DTSTART:20230204T150000Z
DTEND:20230204T160000Z
X-MICROSOFT-CDO-ALLDAYEVENT:FALSE
SUMMARY:Empower Your Wellness: An interactive game show event in Worcester!
DESCRIPTION:Join us for an interactive and entertaining seminar that will leave you with actionable takeaways to improve your health and life. This event is not a traditional lecture\, but rather a game show format that encourages feedback and participation from attendees. If you have a science background\, even better! Your input is valued and appreciated. Limited seating is available\, so be sure to RSVP via Meetup.com or email philgeorge@charter.net to secure your spot. Don't miss out on this opportunity to learn and have fun on Saturday\, February 4th at 10-11AM at NU Kitchen\, located at 335 Chandler St\, Worcester\, MA 01602.\n\nLimited Seating: We only have space for 20 participants\, if you want to ensure a spot RSVP at "Meetup.com" or email me philgeorge@charter.net for invite.\n\nWhen: Saturday 10-11AM beginning 2/4/2023\n\nWhere: Nu Kitchen 335 Chandler St\, Worcester\, MA 01602
X-ALT-DESC;FMTTYPE=text/html:<span style="font-size:18px"><span style="background-color:rgb(255\, 255\, 255)\; color:rgb(34\, 34\, 34)\; font-family:arial\,helvetica\,sans-serif">Join us for an interactive and entertaining seminar that will leave you with actionable takeaways to improve your health and life. This event is not a traditional lecture\, but rather a game show format that encourages feedback and participation from attendees. If you have a science background\, even better! Your input is valued and appreciated. Limited seating is available\, so be sure to RSVP via Meetup.com or email&nbsp\;</span><a href="mailto:philgeorge@charter.net" style="color: rgb(17\, 85\, 204)\; font-family: Arial\, Helvetica\, sans-serif\; font-size: small\; background-color: rgb(255\, 255\, 255)\;" target="_blank">philgeorge@charter.net</a><span style="background-color:rgb(255\, 255\, 255)\; color:rgb(34\, 34\, 34)\; font-family:arial\,helvetica\,sans-serif">&nbsp\;to secure your spot. Don&#39\;t miss out on this opportunity to learn and have fun on Saturday\, February 4th at 10-11AM at NU Kitchen\, located at 335 Chandler St\, Worcester\, MA 01602.</span><br />\nLimited Seating: We only have space for 20 participants\, if you want to ensure a spot <strong><span style="color:red">RSVP at &ldquo\;Meetup.com&rdquo\; or email me philgeorge@charter.net for&nbsp\;</span></strong><font color="#ff0000"><strong>invite.</strong></font><br />\nWhen: Saturday 10-11AM beginning 2/4/2023<br />\nWhere: Nu Kitchen 335 Chandler St\, Worcester\, MA 01602</span><br />\n<br />\n&nbsp\;
LOCATION:335 Chandler St\, Worcester\, MA 01602
UID:e.2083.15037
SEQUENCE:3
DTSTAMP:20260421T093321Z
URL:https://business.cmschamber.org/events/details/empower-your-wellness-an-interactive-game-show-event-in-worcester-15037
END:VEVENT

END:VCALENDAR
