BEGIN:VCALENDAR
VERSION:2.0
PRODID:-//ChamberMaster//Event Calendar 2.0//EN
METHOD:PUBLISH
X-PUBLISHED-TTL:P3D
REFRESH-INTERVAL:P3D
CALSCALE:GREGORIAN
BEGIN:VEVENT
DTSTART:20230922T213000Z
DTEND:20230923T000000Z
X-MICROSOFT-CDO-ALLDAYEVENT:FALSE
SUMMARY:Empowerment Celebration
DESCRIPTION:https://www.easterseals.com/ma/get-involved/events/2023-empowerment-celebration/
X-ALT-DESC;FMTTYPE=text/html:<a href="https://www.easterseals.com/ma/get-involved/events/2023-empowerment-celebration/">https://www.easterseals.com/ma/get-involved/events/2023-empowerment-celebration/</a>
LOCATION:
UID:e.2083.16052
SEQUENCE:3
DTSTAMP:20260420T210217Z
URL:https://business.cmschamber.org/events/details/empowerment-celebration-09-22-2023-16052
END:VEVENT

END:VCALENDAR
