BEGIN:VCALENDAR
VERSION:2.0
PRODID:-//ChamberMaster//Event Calendar 2.0//EN
METHOD:PUBLISH
X-PUBLISHED-TTL:P3D
REFRESH-INTERVAL:P3D
CALSCALE:GREGORIAN
BEGIN:VEVENT
DTSTART:20220625T180000Z
DTEND:20220625T220000Z
X-MICROSOFT-CDO-ALLDAYEVENT:FALSE
SUMMARY:Empowerment Celebration
DESCRIPTION:On June 25\, Easterseals Massachusetts is hosting our most anticipated fundraiser of the year\, our signature Empowerment Celebration and Awards Ceremony.  This year we will be presenting our prestigious Team Hoyt Award to Comcast NBC-Universal for their commitment to our mission to provide services to ensure that children and adults with disabilities have equal opportunities to live\, learn\, work and play.  Other awards are being presented to Oswald Mondejar and Senate President\, Karen E. Spilka\, both are great advocates for the disability community and Easterseals MA champions.  \n\nOur Empowerment Celebration 2022 will be held at Wachusett Mountain in Princeton MA.  We are excited to offer both in-person and virtual attendance opportunities as well as an online auction this year.  The funds raised at the event will go to support non-funded or partially funded programs including: Camp\, Accessible Martial Arts\, College Navigator\, Veteran Services\, and our new Assistive Technology Van. Please see the attached letter from one of our most recent students participating in the College Navigator program. These underfunded programs rely heavily on this even and your support to continue.  Easterseals MA is proud to state that $.86 of every dollar raised goes directly into programs like these.
X-ALT-DESC;FMTTYPE=text/html:<p><span style="font-family:roboto">On June 25\, Easterseals Massachusetts is hosting our most anticipated fundraiser of the year\, our signature Empowerment Celebration and Awards Ceremony.&nbsp\;</span><span style="font-family:roboto">&nbsp\;This year we will be presenting our prestigious Team Hoyt Award to Comcast NBC-Universal for their commitment to our mission to provide services to ensure that children and adults with disabilities have equal opportunities to live\, learn\, work and play.&nbsp\; Other awards are being presented to Oswald Mondejar and Senate President\, Karen E. Spilka\, both are great advocates for the disability community and Easterseals MA champions.&nbsp\;&nbsp\;</span></p>\n\n<p><span style="font-family:roboto">Our Empowerment Celebration 2022 will be held at Wachusett Mountain in Princeton MA.&nbsp\; We are excited to offer both in-person and virtual attendance opportunities as well as an online auction this year.&nbsp\; The funds raised at the event will go to support non-funded or partially funded programs including: Camp\, Accessible Martial Arts\, College Navigator\, Veteran Services\, and our new Assistive Technology Van. Please see the attached letter from one of our most recent students participating in the College Navigator program. These underfunded programs rely heavily on this even and your support to continue.&nbsp\; Easterseals MA is proud to state that $.86 of every dollar raised goes directly into programs like these.</span><span style="font-family:roboto">&nbsp\;</span></p>\n
LOCATION:
UID:e.2083.13934
SEQUENCE:3
DTSTAMP:20260421T202122Z
URL:https://business.cmschamber.org/events/details/empowerment-celebration-13934
END:VEVENT

END:VCALENDAR
