BEGIN:VCALENDAR
VERSION:2.0
PRODID:-//ChamberMaster//Event Calendar 2.0//EN
METHOD:PUBLISH
X-PUBLISHED-TTL:P3D
REFRESH-INTERVAL:P3D
CALSCALE:GREGORIAN
BEGIN:VEVENT
DTSTART:20231114T220000Z
DTEND:20231115T000000Z
X-MICROSOFT-CDO-ALLDAYEVENT:FALSE
SUMMARY:Entrepreneur Speaker Series with Delcie Bean - CEO of Paragus IT
DESCRIPTION:Join us for a candid and eye-opening live talk with Delcie Bean\, Founder and CEO of Paragus IT. \n\n\n\nDelcie will delve into the uncharted territory of entrepreneurship\, shedding light on the often overshadowed aspects of the journey.\n\n\n\nIn this conversation\, we'll explore:\n\n??? Embracing Failure: How setbacks are stepping stones to success.\n\n??? Conquering Fear: Overcoming the doubts that hold us back.\n\n?? Cultivating Resilience: Navigating the unpredictable with tenacity.
X-ALT-DESC;FMTTYPE=text/html:<strong><span style="color:rgba(0\, 0\, 0\, 0.9)\; font-family:-apple-system\,system-ui\,blinkmacsystemfont\,segoe ui\,roboto\,helvetica neue\,fira sans\,ubuntu\,oxygen\,oxygen sans\,cantarell\,droid sans\,apple color emoji\,segoe ui emoji\,segoe ui emoji\,segoe ui symbol\,lucida grande\,helvetica\,arial\,sans-serif\; font-size:14px">Join us for a candid and eye-opening live talk with </span><a href="https://www.linkedin.com/in/ACoAAABX8NsBDJDb8cRQdnZgfE5FIWw-ATMZZOU" style="box-sizing: inherit\; margin: var(--artdeco-reset-base-margin-zero)\; padding: var(--artdeco-reset-base-padding-zero)\; font-size: 14px\; vertical-align: var(--artdeco-reset-base-vertical-align-baseline)\; text-decoration: var(--artdeco-reset-link-text-decoration-none)\; font-weight: var(--font-weight-bold)\; border: var(--artdeco-reset-link-border-zero)\; color: var(--color-action)\; touch-action: manipulation\; position: relative\; word-break: normal\; overflow-wrap: normal\; font-family: -apple-system\, system-ui\, BlinkMacSystemFont\, &quot\;Segoe UI&quot\;\, Roboto\, &quot\;Helvetica Neue&quot\;\, &quot\;Fira Sans&quot\;\, Ubuntu\, Oxygen\, &quot\;Oxygen Sans&quot\;\, Cantarell\, &quot\;Droid Sans&quot\;\, &quot\;Apple Color Emoji&quot\;\, &quot\;Segoe UI Emoji&quot\;\, &quot\;Segoe UI Emoji&quot\;\, &quot\;Segoe UI Symbol&quot\;\, &quot\;Lucida Grande&quot\;\, Helvetica\, Arial\, sans-serif\; display: inline-block\; line-height: inherit !important\;">Delcie Bean</a><span style="color:rgba(0\, 0\, 0\, 0.9)\; font-family:-apple-system\,system-ui\,blinkmacsystemfont\,segoe ui\,roboto\,helvetica neue\,fira sans\,ubuntu\,oxygen\,oxygen sans\,cantarell\,droid sans\,apple color emoji\,segoe ui emoji\,segoe ui emoji\,segoe ui symbol\,lucida grande\,helvetica\,arial\,sans-serif\; font-size:14px">\, Founder and CEO of&nbsp\;</span><a href="https://www.linkedin.com/company/paragus-it/" style="box-sizing: inherit\; margin: var(--artdeco-reset-base-margin-zero)\; padding: var(--artdeco-reset-base-padding-zero)\; font-size: 14px\; vertical-align: var(--artdeco-reset-base-vertical-align-baseline)\; text-decoration: var(--artdeco-reset-link-text-decoration-none)\; font-weight: var(--font-weight-bold)\; border: var(--artdeco-reset-link-border-zero)\; color: var(--color-action)\; touch-action: manipulation\; position: relative\; word-break: normal\; overflow-wrap: normal\; font-family: -apple-system\, system-ui\, BlinkMacSystemFont\, &quot\;Segoe UI&quot\;\, Roboto\, &quot\;Helvetica Neue&quot\;\, &quot\;Fira Sans&quot\;\, Ubuntu\, Oxygen\, &quot\;Oxygen Sans&quot\;\, Cantarell\, &quot\;Droid Sans&quot\;\, &quot\;Apple Color Emoji&quot\;\, &quot\;Segoe UI Emoji&quot\;\, &quot\;Segoe UI Emoji&quot\;\, &quot\;Segoe UI Symbol&quot\;\, &quot\;Lucida Grande&quot\;\, Helvetica\, Arial\, sans-serif\; display: inline-block\; line-height: inherit !important\;">Paragus I</a>T.&nbsp\;</strong><br />\n<br />\nDelcie will<span style="color:rgba(0\, 0\, 0\, 0.9)\; font-family:-apple-system\,system-ui\,blinkmacsystemfont\,segoe ui\,roboto\,helvetica neue\,fira sans\,ubuntu\,oxygen\,oxygen sans\,cantarell\,droid sans\,apple color emoji\,segoe ui emoji\,segoe ui emoji\,segoe ui symbol\,lucida grande\,helvetica\,arial\,sans-serif\; font-size:14px">&nbsp\;delve into the uncharted territory of entrepreneurship\, shedding light on the often overshadowed aspects of the journey.</span><br />\n<br />\n<span style="color:rgba(0\, 0\, 0\, 0.9)\; font-family:-apple-system\,system-ui\,blinkmacsystemfont\,segoe ui\,roboto\,helvetica neue\,fira sans\,ubuntu\,oxygen\,oxygen sans\,cantarell\,droid sans\,apple color emoji\,segoe ui emoji\,segoe ui emoji\,segoe ui symbol\,lucida grande\,helvetica\,arial\,sans-serif\; font-size:14px">In this conversation\, we&#39\;ll explore:</span><br />\n<span style="color:rgba(0\, 0\, 0\, 0.9)\; font-family:-apple-system\,system-ui\,blinkmacsystemfont\,segoe ui\,roboto\,helvetica neue\,fira sans\,ubuntu\,oxygen\,oxygen sans\,cantarell\,droid sans\,apple color emoji\,segoe ui emoji\,segoe ui emoji\,segoe ui symbol\,lucida grande\,helvetica\,arial\,sans-serif\; font-size:14px">???<em><strong> Embracing Failure: </strong></em>How setbacks are stepping stones to success.</span><br />\n<span style="color:rgba(0\, 0\, 0\, 0.9)\; font-family:-apple-system\,system-ui\,blinkmacsystemfont\,segoe ui\,roboto\,helvetica neue\,fira sans\,ubuntu\,oxygen\,oxygen sans\,cantarell\,droid sans\,apple color emoji\,segoe ui emoji\,segoe ui emoji\,segoe ui symbol\,lucida grande\,helvetica\,arial\,sans-serif\; font-size:14px">??? <em><strong>Conquering Fear:</strong></em> Overcoming the doubts that hold us back.</span><br />\n<span style="color:rgba(0\, 0\, 0\, 0.9)\; font-family:-apple-system\,system-ui\,blinkmacsystemfont\,segoe ui\,roboto\,helvetica neue\,fira sans\,ubuntu\,oxygen\,oxygen sans\,cantarell\,droid sans\,apple color emoji\,segoe ui emoji\,segoe ui emoji\,segoe ui symbol\,lucida grande\,helvetica\,arial\,sans-serif\; font-size:14px">?? <em><strong>Cultivating Resilience:</strong></em> Navigating the unpredictable with tenacity.</span>
LOCATION:1 Mercantile\, Worcester\, MA 01608
UID:e.2083.16854
SEQUENCE:3
DTSTAMP:20260420T154539Z
URL:https://business.cmschamber.org/events/details/entrepreneur-speaker-series-with-delcie-bean-ceo-of-paragus-it-16854
END:VEVENT

END:VCALENDAR
