BEGIN:VCALENDAR
VERSION:2.0
PRODID:-//ChamberMaster//Event Calendar 2.0//EN
METHOD:PUBLISH
X-PUBLISHED-TTL:P3D
REFRESH-INTERVAL:P3D
CALSCALE:GREGORIAN
BEGIN:VEVENT
DTSTART:20280823T140000Z
DTEND:20280823T160000Z
X-MICROSOFT-CDO-ALLDAYEVENT:FALSE
SUMMARY:EOED Office Hours at the WRCC
DESCRIPTION:
X-ALT-DESC;FMTTYPE=text/html:
LOCATION:
UID:e.2083.18881
SEQUENCE:3
DTSTAMP:20260420T171234Z
URL:https://business.cmschamber.org/events/details/eoed-office-hours-at-the-wrcc-08-23-2028-18881
END:VEVENT

END:VCALENDAR
