BEGIN:VCALENDAR
VERSION:2.0
PRODID:-//ChamberMaster//Event Calendar 2.0//EN
METHOD:PUBLISH
X-PUBLISHED-TTL:P3D
REFRESH-INTERVAL:P3D
CALSCALE:GREGORIAN
BEGIN:VEVENT
DTSTART:20281227T150000Z
DTEND:20281227T170000Z
X-MICROSOFT-CDO-ALLDAYEVENT:FALSE
SUMMARY:EOED Office Hours at the WRCC
DESCRIPTION:
X-ALT-DESC;FMTTYPE=text/html:
LOCATION:
UID:e.2083.18885
SEQUENCE:3
DTSTAMP:20260421T005136Z
URL:https://business.cmschamber.org/events/details/eoed-office-hours-at-the-wrcc-12-27-2028-18885
END:VEVENT

END:VCALENDAR
