BEGIN:VCALENDAR
VERSION:2.0
PRODID:-//ChamberMaster//Event Calendar 2.0//EN
METHOD:PUBLISH
X-PUBLISHED-TTL:P3D
REFRESH-INTERVAL:P3D
CALSCALE:GREGORIAN
BEGIN:VEVENT
DTSTART:20230327T213000Z
DTEND:20230327T233000Z
X-MICROSOFT-CDO-ALLDAYEVENT:FALSE
SUMMARY:Facebook for Business
DESCRIPTION:You've determined your target audience is on Facebook\, but how do you reach them? Despite being the largest and most widely-used social media platform in the world\, Facebook can still be difficult to navigate\, especially on the business side. Join Julia Becker Collins\, COO at Vision Advertising\, as she offers sales and marketing strategies to help you get the most out of Facebook as a tool for your business.\n\nIn this interactive workshop\, Julia will:\n\n\n	Provide an introduction to Facebook\n	Explain the differences between business and personal pages\n	Share how to use the platform's available tools like Facebook Groups\, Facebook Events\, and Facebook Live\n	Explain the importance of paid advertisements on Facebook
X-ALT-DESC;FMTTYPE=text/html:<p>You&rsquo\;ve determined your target audience is on Facebook\, but how do you reach them? Despite being the largest and most widely-used social media platform in the world\, Facebook can still be difficult to navigate\, especially on the business side.&nbsp\;Join Julia Becker Collins\, COO at Vision Advertising\, as she offers sales and marketing strategies to help you get the most out of Facebook as a tool for your business.</p>\n\n<p>In this interactive workshop\, Julia will:</p>\n\n<ul>\n	<li>Provide an introduction to Facebook</li>\n	<li>Explain the differences between business and personal pages</li>\n	<li>Share how to use the platform&rsquo\;s available tools like Facebook Groups\, Facebook Events\, and Facebook Live</li>\n	<li>Explain the importance of paid advertisements on Facebook</li>\n</ul>\n
LOCATION:WorcLab 44 Portland St\, Worcester MA 01608
UID:e.2083.15451
SEQUENCE:3
DTSTAMP:20260421T055603Z
URL:https://business.cmschamber.org/events/details/facebook-for-business-15451
END:VEVENT

END:VCALENDAR
