BEGIN:VCALENDAR
VERSION:2.0
PRODID:-//ChamberMaster//Event Calendar 2.0//EN
METHOD:PUBLISH
X-PUBLISHED-TTL:P3D
REFRESH-INTERVAL:P3D
CALSCALE:GREGORIAN
BEGIN:VEVENT
DTSTART:20200205T170000Z
DTEND:20200205T190000Z
X-MICROSOFT-CDO-ALLDAYEVENT:FALSE
SUMMARY:Facebook for Small Businesses
DESCRIPTION:Join this workshop to learn the intricacies of Facebook for small business. Most of us have personal Facebook accounts\, but the ins and outs of page management for your business are not the same as your own profile. In this workshop you will learn:\n\n\n	Dos and don'ts for Facebook business pages\n	How you can use Facebook to market your business\n	How to use Facebook to communicate with and gather feedback from your customers\n	How often and what types of things to post\n\n\nWhen: Wednesday\, February 5 from 12:00 PM - 2:00 PM\n\nWhere: Online webinar. Link will be sent after registration.\n\nFee: $20. Must register to attend. Partial scholarships available for those that qualify. Contact Sam at spevear@cweonline.org for a scholarship application. \n\nClick Here to Register
X-ALT-DESC;FMTTYPE=text/html:<p>Join this workshop to learn the intricacies of Facebook for small business. Most of us have personal Facebook accounts\, but the ins and outs of page management for your business are not the same as your own profile. In this workshop you will learn:</p>\n\n<ul>\n	<li>Dos and don&rsquo\;ts for Facebook business pages</li>\n	<li>How you can use Facebook to market your business</li>\n	<li>How to use Facebook to communicate with and gather feedback from your customers</li>\n	<li>How often and what types of things to post</li>\n</ul>\n\n<p><strong>When:&nbsp\;</strong>Wednesday\, February 5&nbsp\;from 12:00 PM - 2:00 PM</p>\n\n<p><strong>Where:</strong>&nbsp\;Online webinar. Link will be sent after registration.</p>\n\n<p><strong>Fee:&nbsp\;</strong>$20. Must register to attend. Partial scholarships available for those that qualify. Contact Sam at spevear@cweonline.org for a scholarship application.&nbsp\;</p>\n\n<p><a href="https://www.eventbrite.com/e/cwe-central-ma-facebook-for-small-businesses-webinar-tickets-86340997247" style="box-sizing: border-box\; margin: 0px\; padding: 0px\; border: 0px\; font-style: inherit\; font-variant: inherit\; font-weight: 600\; font-stretch: inherit\; font-size: inherit\; line-height: inherit\; font-family: inherit\; vertical-align: baseline\; color: rgb(70\, 102\, 194)\; text-decoration-line: none\; outline: none\; cursor: pointer\; transition: color 0.2s ease-out 0s\, background 0.2s ease-in 0s\, opacity 0.2s ease-out 0s\, border 0.2s ease-out 0s\;">Click Here to Register</a></p>\n
LOCATION:Online webinar. Access code will be emailed upon registration.
UID:e.2083.11773
SEQUENCE:3
DTSTAMP:20260423T144415Z
URL:https://business.cmschamber.org/events/details/facebook-for-small-businesses-11773
END:VEVENT

END:VCALENDAR
