BEGIN:VCALENDAR
VERSION:2.0
PRODID:-//ChamberMaster//Event Calendar 2.0//EN
METHOD:PUBLISH
X-PUBLISHED-TTL:P3D
REFRESH-INTERVAL:P3D
CALSCALE:GREGORIAN
BEGIN:VEVENT
DTSTART:20231019T200000Z
DTEND:20231019T230000Z
X-MICROSOFT-CDO-ALLDAYEVENT:FALSE
SUMMARY:Fall Greendale Job Fair
DESCRIPTION:Find your next job opportunity today! Many industries and companies will be represented at this job fair on October 19th.
X-ALT-DESC;FMTTYPE=text/html:Find your next job opportunity today! Many industries and companies will be represented at this job fair on October 19th.&nbsp\;
LOCATION:Unitarian Universalist Church\, 90 Holden Road\, Worcester
UID:e.2083.16669
SEQUENCE:3
DTSTAMP:20260420T170738Z
URL:https://business.cmschamber.org/events/details/fall-greendal-job-fair-16669
END:VEVENT

END:VCALENDAR
