BEGIN:VCALENDAR
VERSION:2.0
PRODID:-//ChamberMaster//Event Calendar 2.0//EN
METHOD:PUBLISH
X-PUBLISHED-TTL:P3D
REFRESH-INTERVAL:P3D
CALSCALE:GREGORIAN
BEGIN:VEVENT
DTSTART:20200218T220000Z
DTEND:20200219T000000Z
X-MICROSOFT-CDO-ALLDAYEVENT:FALSE
SUMMARY:February Fun at Five
DESCRIPTION:Fun at Five!\n\nBusiness Networking with the Chamber of Central Mass South\n\nTuesday\, February 18\, 2020\n\n5:00-7:00pm\n\n \n\nSturbridge Host Hotel & Conference Center\n\n366 Main Street (Rte 20)\, Sturbridge\, 508-347-7393\n\nwww.sturbridgehosthotel.com\n\n\n\nJoin us for a Mid-Winter Warm Up Fun at Five at the Sturbridge Host Hotel and Conference Center. Enjoy a signature cocktail or two offered at a cash bar with complimentary soft drinks and water. Partake in tasty treats and appetizers! Take a tour of guest rooms\, the hotel's meeting space\, and historic Oxhead Tavern.\n\n\n\nYou could win...\n\nA Romance Package ($210 value)\n\nThanks to our host\, the Sturbridge Host Hotel & Conference Center!\n\nThe package includes an overnight guestroom for one night\, a four course meal at\n\nThe Oxhead Tavern for two and Breakfast for two in our Greenhouse Restaurant.\n\n(This package is available for one full year after the Fun at Five\, based on availability. Peak blackout dates\, such as New Year's Eve\, will apply.)\n\n\n\nRegister for Fun at Five by email or phone.508-347-2761\n\nCost is $12 for Members who pre-register\,\n\n$15 at the door\, or $20 for non-Members.\n\n \n\nThank you to our February Fun at Five Sponsor!\n\n \n\nThe Center of Hope\n\nThe Center of Hope Foundation has been serving local individuals with disabilities for more than 60 years.\n\n\n\nThe Center of Hope Foundation provides people with disabilities and their families the employment\, day services\, social and other opportunities to be contributing members of their communities\, and to achieve the most fulfilling and meaningful lives possible.\n\n100 Foster Street\, Southbridge\, 508-764-4085\n\nwww.thecenterofhope.org
X-ALT-DESC;FMTTYPE=text/html:Fun at Five!<br />\nBusiness Networking with the Chamber of Central Mass South<br />\nTuesday\, February 18\, 2020<br />\n5:00-7:00pm<br />\n&nbsp\;<br />\nSturbridge Host Hotel &amp\; Conference Center<br />\n366 Main Street (Rte 20)\, Sturbridge\, 508-347-7393<br />\nwww.sturbridgehosthotel.com<br />\n<br />\nJoin us for a Mid-Winter Warm Up Fun at Five at the Sturbridge Host Hotel and Conference Center. Enjoy a signature cocktail or two offered at a cash bar with complimentary soft drinks and water. Partake in tasty treats and appetizers! Take a tour of guest rooms\, the hotel&#39\;s meeting space\, and historic Oxhead Tavern.<br />\n<br />\nYou could win...<br />\nA Romance Package ($210 value)<br />\nThanks to our host\, the Sturbridge Host Hotel &amp\; Conference Center!<br />\nThe package includes an overnight guestroom for one night\, a four course meal at<br />\nThe Oxhead Tavern for two and Breakfast for two in our Greenhouse Restaurant.<br />\n(This package is available for one full year after the Fun at Five\, based on availability. Peak blackout dates\, such as New Year&#39\;s Eve\, will apply.)<br />\n<br />\nRegister for Fun at Five by email or phone.508-347-2761<br />\nCost is $12 for Members who pre-register\,<br />\n$15 at the door\, or $20 for non-Members.<br />\n&nbsp\;<br />\nThank you to our February Fun at Five Sponsor!<br />\n&nbsp\;<br />\nThe Center of Hope<br />\nThe Center of Hope Foundation has been serving local individuals with disabilities for more than 60 years.<br />\n<br />\nThe Center of Hope Foundation provides people with disabilities and their families the employment\, day services\, social and other opportunities to be contributing members of their communities\, and to achieve the most fulfilling and meaningful lives possible.<br />\n100 Foster Street\, Southbridge\, 508-764-4085<br />\nwww.thecenterofhope.org
LOCATION:Sturbridge Host Hotel & Conference Center\, 366 Main Street\, (Rte 20) Sturbridge\, MA
UID:e.2083.11764
SEQUENCE:3
DTSTAMP:20260423T144323Z
URL:https://business.cmschamber.org/events/details/february-fun-at-five-02-18-2020-11764
END:VEVENT

END:VCALENDAR
