BEGIN:VCALENDAR
VERSION:2.0
PRODID:-//ChamberMaster//Event Calendar 2.0//EN
METHOD:PUBLISH
X-PUBLISHED-TTL:P3D
REFRESH-INTERVAL:P3D
CALSCALE:GREGORIAN
BEGIN:VEVENT
DTSTART:20211028T130000Z
DTEND:20211028T140000Z
X-MICROSOFT-CDO-ALLDAYEVENT:FALSE
SUMMARY:Fidelity Bank LifeDesign Workshop Series: Being Smart About Cyber Security
DESCRIPTION:Protect yourself and your business by Being Smart About Cyber Security.\n\nJoin Brad Kirlin\, SVP Chief Technology Officer with Fidelity Bank for a FREE webinar via Cisco WebEx on Thursday October 28th at 9AM \n\n\n\n47% of Small Businesses Experienced a Cyber Attack in the past year!\n\n\n\nAm I at risk? The short answer is yes\, no one is safe from attackers. Cyber threats are on the rise. Small businesses\n\nare at just as much risk as large organizations. We will have a conversation about why small businesses are at risk\n\nand what you can do to help reduce the risk of a cyber-attack.\n\n\n\nTopics will include:\n\n  Current Trends\n\n  Phishing\n\n  Office 365 & Associated Risks\n\n  Technology Vendor Selections\n\n  Importance of Internal Policy & Procedures\n\n\n\nModerated by Brad Kirlin\, SVP Chief Technology Officer\n\nRegistration Link: fidelitybankonline.com/cyber\n\nFor questions\, contact Sherri Pitcher: spitcher@fidelitybankonline.com
X-ALT-DESC;FMTTYPE=text/html:<span style="font-size:14px"><span style="font-family:tahoma">Protect yourself and your business by<strong> Being Smart About Cyber Security.</strong><br />\nJoin Brad Kirlin\, SVP Chief Technology Officer with Fidelity Bank for a FREE webinar via Cisco WebEx on Thursday October 28th at 9AM&nbsp\;<br />\n<br />\n<strong>47% of Small Businesses Experienced a Cyber Attack in the past year!</strong><br />\n<br />\nAm I at risk? The short answer is yes\, no one is safe from attackers. Cyber threats are on the rise. Small businesses<br />\nare at just as much risk as large organizations. We will have a conversation about why small businesses are at risk<br />\nand what you can do to help reduce the risk of a cyber-attack.<br />\n<br />\nTopics will include:<br />\n&bull\; Current Trends<br />\n&bull\; Phishing<br />\n&bull\; Office 365 &amp\; Associated Risks<br />\n&bull\; Technology Vendor Selections<br />\n&bull\; Importance of Internal Policy &amp\; Procedures<br />\n<br />\nModerated by Brad Kirlin\, SVP Chief Technology Officer</span></span><br />\nRegistration Link: fidelitybankonline.com/cyber<br />\nFor questions\, contact Sherri Pitcher: spitcher@fidelitybankonline.com
LOCATION:Registration Link: fidelitybankonline.com/cyber
UID:e.2083.13596
SEQUENCE:3
DTSTAMP:20260422T074950Z
URL:https://business.cmschamber.org/events/details/fidelity-bank-lifedesign-workshop-being-smart-about-cyber-security-13596
END:VEVENT

END:VCALENDAR
