BEGIN:VCALENDAR
VERSION:2.0
PRODID:-//ChamberMaster//Event Calendar 2.0//EN
METHOD:PUBLISH
X-PUBLISHED-TTL:P3D
REFRESH-INTERVAL:P3D
CALSCALE:GREGORIAN
BEGIN:VEVENT
DTSTART:20230912T213000Z
DTEND:20230912T233000Z
X-MICROSOFT-CDO-ALLDAYEVENT:FALSE
SUMMARY:Financial Capability Workshop (September 2023)
DESCRIPTION:Need help managing your finances? Interested in developing a sustainable spending plan? At this workshop you will learn about managing personal finances and be empowered to make better decisions in order to achieve financial stability for yourself and your family!
X-ALT-DESC;FMTTYPE=text/html:Need help managing your finances? Interested in developing a sustainable spending plan? At this workshop you will learn about managing personal finances and be empowered to make better decisions in order to achieve financial stability for yourself and your family!
LOCATION:RCAP Solutions 191 May Street Worcester\, MA 01602
UID:e.2083.16009
SEQUENCE:3
DTSTAMP:20260420T190403Z
URL:https://business.cmschamber.org/events/details/financial-capability-workshop-september-2023-16009
END:VEVENT

END:VCALENDAR
