BEGIN:VCALENDAR
VERSION:2.0
PRODID:-//ChamberMaster//Event Calendar 2.0//EN
METHOD:PUBLISH
X-PUBLISHED-TTL:P3D
REFRESH-INTERVAL:P3D
CALSCALE:GREGORIAN
BEGIN:VEVENT
DTSTART:20230307T170000Z
DTEND:20230307T180000Z
X-MICROSOFT-CDO-ALLDAYEVENT:FALSE
SUMMARY:Finding and Negotiating the Perfect Space for Your Business
DESCRIPTION:You are ready to find the perfect space for your business...now what?! We are bringing in Commercial Realestate Specialist\, Nolan Ryan\, to talk through: \n\n\n	What things do you need to have in order when you're looking for a space for your business\n	Leasing vs. Owning \n	Where to go when you're ready to start searching for a space\n\n\nThe first half will be presentation based\, and we are leaving the last half for an open Q&A\, so make sure to bring all your burning questions and we will get them answered!
X-ALT-DESC;FMTTYPE=text/html:<p>You are ready to find the perfect space for your business...now what?! We are bringing in Commercial Realestate Specialist\, Nolan Ryan\, to talk through:&nbsp\;</p>\n\n<ul>\n	<li>What things do you need to have in order when you&#39\;re looking for a space for your business</li>\n	<li>Leasing vs. Owning&nbsp\;</li>\n	<li>Where to go when you&#39\;re ready to start searching for a space</li>\n</ul>\n\n<p>The first half will be presentation based\, and we are leaving the last half for an open Q&amp\;A\, so make sure to bring all your burning questions and we will get them answered!&nbsp\;</p>\n
LOCATION:Zoom
UID:e.2083.15441
SEQUENCE:3
DTSTAMP:20260421T060030Z
URL:https://business.cmschamber.org/events/details/finding-and-negotiating-the-perfect-space-for-your-business-15441
END:VEVENT

END:VCALENDAR
