BEGIN:VCALENDAR
VERSION:2.0
PRODID:-//ChamberMaster//Event Calendar 2.0//EN
METHOD:PUBLISH
X-PUBLISHED-TTL:P3D
REFRESH-INTERVAL:P3D
CALSCALE:GREGORIAN
BEGIN:VEVENT
DTSTART:20230511T160000Z
DTEND:20230511T173000Z
X-MICROSOFT-CDO-ALLDAYEVENT:FALSE
SUMMARY:Finding Government Contracting Opportunities
DESCRIPTION:Your business is at a place where you are stable and looking for opportunities to grow through government contracting. Now what? In this session we will walk through:\n\n \n\n\n	How to find the government solicitations available to bid on.\n	The trainings that are available through a multitude of resources\, to further assist you with getting ready to contract\, including: the state\, the MA APEX Accelerator\, the MA SBA and more.\n	Review some of the registrations and documents the government may want you to have.
X-ALT-DESC;FMTTYPE=text/html:<p>Your business is at a place where you are stable and looking for opportunities to grow through government contracting. Now what? In this session we will walk through:</p>\n\n<p>&nbsp\;</p>\n\n<ul>\n	<li>How to find the government solicitations available to bid on.</li>\n	<li>The trainings that are available through a multitude of resources\, to further assist you with getting ready to contract\, including: the state\, the MA APEX Accelerator\, the MA SBA and more.</li>\n	<li>Review some of the registrations and documents the government may want you to have.</li>\n</ul>\n
LOCATION:Zoom
UID:e.2083.15939
SEQUENCE:3
DTSTAMP:20260421T042048Z
URL:https://business.cmschamber.org/events/details/finding-government-contracting-opportunities-15939
END:VEVENT

END:VCALENDAR
