BEGIN:VCALENDAR
VERSION:2.0
PRODID:-//ChamberMaster//Event Calendar 2.0//EN
METHOD:PUBLISH
X-PUBLISHED-TTL:P3D
REFRESH-INTERVAL:P3D
CALSCALE:GREGORIAN
BEGIN:VEVENT
DTSTART:20231115T223000Z
DTEND:20231116T013000Z
X-MICROSOFT-CDO-ALLDAYEVENT:FALSE
SUMMARY:First-Time Homebuyer Workshop (November 2023)
DESCRIPTION:In this MassHousing approved\, HUD and CHAPA certified workshop\, attendees will learn about programs available to assist income-eligible first time homebuyers\; understand the steps in the homebuying process\; meet with professionals who will discuss what to look for in a homebuying team\; and receive the necessary certification required by many first time homebuyer programs.
X-ALT-DESC;FMTTYPE=text/html:<span style="color:rgb(0\, 0\, 0)\; font-family:arial\; font-size:14px">In this MassHousing approved\, HUD and CHAPA certified workshop\, attendees will learn about programs available to assist income-eligible first time homebuyers\; understand the steps in the homebuying process\; meet with professionals who will discuss what to look for in a homebuying team\; and receive the necessary certification required by many first time homebuyer programs.</span>
LOCATION:RCAP Solutions 191 May Street Worcester\, MA 01602
UID:e.2083.16689
SEQUENCE:3
DTSTAMP:20260420T171323Z
URL:https://business.cmschamber.org/events/details/first-time-homebuyer-workshop-november-2023-11-15-2023-16689
END:VEVENT

END:VCALENDAR
