BEGIN:VCALENDAR
VERSION:2.0
PRODID:-//ChamberMaster//Event Calendar 2.0//EN
METHOD:PUBLISH
X-PUBLISHED-TTL:P3D
REFRESH-INTERVAL:P3D
CALSCALE:GREGORIAN
BEGIN:VEVENT
DTSTART:20220812T123000Z
DTEND:20220812T133000Z
X-MICROSOFT-CDO-ALLDAYEVENT:FALSE
SUMMARY:Forever Forward: Powered by Entrepreneurs Forever
DESCRIPTION:Do you wish you had some time to work on your business\, not in your business? Where do you see you business in five years? Three years? One month? Join other local small businesses for a virtual networking event and visioning workshop! ALL are welcome to attend this FREE event. REGISTER NOW! \n\n\n\nAt Entrepreneurs Forever\, we believe that you've got this. Because we've got you. \n\n\n\nEntrepreneurs Forever already supports over 30 small businesses in the greater Worcester/Western MA area and we are looking to add more to our unique program. Membership in the program is sponsored by donors\, corporations\, and foundations who believe in you just as much as we believe in you and YOU believe in YOURSELF. Thus\, we are able to offer your greater-Worcester/Western MA small business into our program at no cost to you. \n\n\n\nWhat's holding you back? JOIN US!
X-ALT-DESC;FMTTYPE=text/html:Do you wish you had some time to work on your business\, not in your business? Where do you see you business in five years? Three years? One month? Join other local small businesses for a virtual networking event and visioning workshop! ALL are welcome to attend this FREE event. <a href="https://www.entrepreneursforever.org/events/forever-forward">REGISTER NOW!</a>&nbsp\;<br />\n<br />\nAt Entrepreneurs Forever\, we believe that you&#39\;ve got this. Because we&#39\;ve got you.&nbsp\;<br />\n<br />\nEntrepreneurs Forever already supports over 30 small businesses in the greater Worcester/Western MA area and we are looking to add more to our unique program. Membership in the program is sponsored by donors\, corporations\, and foundations who believe in you just as much as we believe in you and YOU believe in YOURSELF. Thus\, we are able to offer your greater-Worcester/Western MA small business into our program at no cost to you.&nbsp\;<br />\n<br />\nWhat&#39\;s holding you back? JOIN US!&nbsp\;
LOCATION:This free event is entirely virtual. CLICK HERE to register! (If the link does not work\, please copy and paste https://www.entrepreneursforever.org/events/forever-forward into your browser.)
UID:e.2083.14061
SEQUENCE:3
DTSTAMP:20260421T184224Z
URL:https://business.cmschamber.org/events/details/forever-forward-powered-by-entrepreneurs-forever-14061
END:VEVENT

END:VCALENDAR
