BEGIN:VCALENDAR
VERSION:2.0
PRODID:-//ChamberMaster//Event Calendar 2.0//EN
METHOD:PUBLISH
X-PUBLISHED-TTL:P3D
REFRESH-INTERVAL:P3D
CALSCALE:GREGORIAN
BEGIN:VEVENT
DTSTART:20200604T150000Z
DTEND:20200604T160000Z
X-MICROSOFT-CDO-ALLDAYEVENT:FALSE
SUMMARY:Free Online Food Safety 101 Webinar conducted by Ecolab Inc.
DESCRIPTION:Food Safety 101: Warewash Program\n\nEcolab's second installment of the Food Safety 101 webinar series focuses on the warewash program. Join us as our seasoned warewash training experts dive into foundational warewashing principles\, best practices and COVID-19 considerations to strengthen this crucial component of your organization's food safety and public health program.\n\n \n\nWhen: Thursday\, June 4\, 2020 - 10 a.m. Central Time \n\nPresenters:\n\nDenis Stedman\n\nInstitutional Division Training Manager\, Ecolab            \n\n \n\nLarry Vinson\n\nInstitutional Division Training Manager\, Ecolab            \n\nThere is no charge for this webinar and it qualifies for CEU credits\, but you must register in advance.
X-ALT-DESC;FMTTYPE=text/html:<strong><span style="color:#58A618"><span style="font-family:arial\,sans-serif"><span style="font-size:14.0pt">Food Safety 101: Warewash Program</span></span></span></strong><br />\n<span style="color:#595959"><span style="font-family:arial\,sans-serif"><span style="font-size:12.0pt">Ecolab&rsquo\;s second installment of the Food Safety 101 webinar series focuses on the warewash program. Join us as our seasoned warewash training experts dive into foundational warewashing principles\, best practices and COVID-19 considerations to strengthen this crucial component of your organization&rsquo\;s food safety and public health program.</span></span></span><br />\n&nbsp\;<br />\n<strong><span style="color:#58A618"><span style="font-family:arial\,sans-serif"><span style="font-size:14.0pt">When:</span></span></span></strong>&nbsp\;<span style="color:#595959"><span style="font-family:arial\,sans-serif"><span style="font-size:14.0pt">Thursday\, June 4\, 2020 - 10 a.m. Central Time</span></span></span>&nbsp\;<br />\n<strong><span style="color:#58A618"><span style="font-family:arial\,sans-serif"><span style="font-size:14.0pt">Presenters:</span></span></span></strong><br />\n<strong><span style="color:#0070C0"><span style="font-family:arial\,sans-serif"><span style="font-size:12.0pt">Denis Stedman</span></span></span></strong><br />\n<span style="color:#595959"><span style="font-family:arial\,sans-serif"><span style="font-size:12pt">Institutional Division Training Manager\, </span></span></span><span style="color:#595959"><span style="font-family:arial\,sans-serif"><span style="font-size:12.0pt">Ecolab&nbsp\;&nbsp\;&nbsp\;&nbsp\;&nbsp\;&nbsp\;&nbsp\;&nbsp\;&nbsp\;&nbsp\;&nbsp\; </span></span></span><br />\n&nbsp\;<br />\n<strong><span style="color:#0070C0"><span style="font-family:arial\,sans-serif"><span style="font-size:12.0pt">Larry Vinson</span></span></span></strong><br />\n<span style="color:#595959"><span style="font-family:arial\,sans-serif"><span style="font-size:12pt">Institutional Division Training Manager\, </span></span></span><span style="color:#595959"><span style="font-family:arial\,sans-serif"><span style="font-size:12.0pt">Ecolab&nbsp\;&nbsp\;&nbsp\;&nbsp\;&nbsp\;&nbsp\;&nbsp\;&nbsp\;&nbsp\;&nbsp\;&nbsp\; </span></span></span><br />\n<span style="color:#7F7F7F"><span style="font-family:arial\,sans-serif"><span style="font-size:12.0pt">There is no charge for this webinar and it qualifies for CEU credits\, but you must register in advance.</span></span></span>
LOCATION:
UID:e.2083.12148
SEQUENCE:3
DTSTAMP:20260423T084532Z
URL:https://business.cmschamber.org/events/details/free-online-food-safety-101-webinar-conducted-by-ecolab-inc-12148
END:VEVENT

END:VCALENDAR
