BEGIN:VCALENDAR
VERSION:2.0
PRODID:-//ChamberMaster//Event Calendar 2.0//EN
METHOD:PUBLISH
X-PUBLISHED-TTL:P3D
REFRESH-INTERVAL:P3D
CALSCALE:GREGORIAN
BEGIN:VEVENT
DTSTART:20200909T123000Z
DTEND:20200909T133000Z
X-MICROSOFT-CDO-ALLDAYEVENT:FALSE
SUMMARY:FREE Web Seminar Series: "Protect Your Business from Hackers"
DESCRIPTION:Determine the extent your business may be at risk to some of the most common cyber-attacks\, especially business email compromise (BEC) and corresponding wire fraud.  See actual examples of credential harvesting tools in action\, including dark web scans\, and the Social Engineering Toolkit (SET) for spear-phishing attacks.  Leave informed with resources to better protect your business from hackers.\n \n\nOutline:\n\n\n	What is Phishing and Social Engineering?\n	What Makes Your Business a Target?\n	Hacker Tools and Techniques\n	Resources and Guidance to Protect Your Business\n\n\nPresenters:\n\nRaymond Albert Ph.D.\, Professor of Practice and Director of Cybersecurity Program\n\nAssumption College\n\nSteve Lettery\, Account Manager\n\nCinch I.T.\n\nJennifer Rumbolt\, Regional Operations Officer\n\nTD Bank
X-ALT-DESC;FMTTYPE=text/html:<p><span style="font-size:12.0pt\;color:black">Determine the extent your business may be at risk to some of the most common cyber-attacks\, especially business email compromise (BEC) and corresponding wire fraud.&nbsp\; See actual examples of credential harvesting tools in action\, including dark web scans\, and the Social Engineering Toolkit (SET) for spear-phishing attacks.&nbsp\; Leave informed with resources to better protect your business from hackers.</span></p>\n&nbsp\;<br />\n<u><span style="color:black\;"><span style="font-size:12.0pt\;">Outline:</span></span></u>\n\n<ul>\n	<li style="color:black\;"><span style="font-size:12.0pt\;">What is Phishing and Social Engineering?</span></li>\n	<li style="color:black\;"><span style="font-size:12.0pt\;">What Makes Your Business a Target?</span></li>\n	<li style="color:black\;"><span style="font-size:12.0pt\;">Hacker Tools and Techniques</span></li>\n	<li style="color:black\;"><span style="font-size:12.0pt\;">Resources and Guidance to Protect Your Business</span></li>\n</ul>\n\n<div style="color:black\;"><span style="font-size: 16px\;"><strong>Presenters:</strong><br />\n<strong>Raymond Albert Ph.D.</strong>\, Professor of Practice and Director of Cybersecurity Program<br />\nAssumption College<br />\n<strong>Steve Lettery</strong>\, Account Manager<br />\nCinch I.T.<br />\n<strong>Jennifer Rumbolt\,</strong> Regional Operations Officer<br />\nTD Bank</span></div>\n
LOCATION:on-line
UID:e.2083.11672
SEQUENCE:3
DTSTAMP:20260423T053222Z
URL:https://business.cmschamber.org/events/details/free-web-seminar-series-protect-your-business-from-hackers-11672
END:VEVENT

END:VCALENDAR
