BEGIN:VCALENDAR
VERSION:2.0
PRODID:-//ChamberMaster//Event Calendar 2.0//EN
METHOD:PUBLISH
X-PUBLISHED-TTL:P3D
REFRESH-INTERVAL:P3D
CALSCALE:GREGORIAN
BEGIN:VEVENT
DTSTART:20200403T180000Z
DTEND:20200403T190000Z
X-MICROSOFT-CDO-ALLDAYEVENT:FALSE
SUMMARY:FREE Webinar: #3 Running Your Business in Quarantine: A Survival Guide
DESCRIPTION:3rd Webinar Session: Running Your Business in Quarantine: A Survival Guide\n\n\n\nJoin CEO\, Kham Inthirath\, of InThink Agency as he discusses how to leverage chatbots for your sales and marketing strategy.\n\n	What is conversational marketing?\n	Drift Chatbot Uses\n	Tips and Tricks\n	Rapid Response Business Plan + Why You Need One\n	Q&A
X-ALT-DESC;FMTTYPE=text/html:<span style="color:black\;"><span style="font-family:arial\,sans-serif\;"><strong>3rd Webinar Session: Running Your Business in Quarantine: A Survival Guide</strong><br />\n<br />\nJoin CEO\, Kham Inthirath\, of InThink Agency as he discusses how to leverage chatbots for your sales and marketing strategy.</span></span>\n<ul>\n	<li>What is conversational marketing?</li>\n	<li>Drift Chatbot Uses</li>\n	<li>Tips and Tricks</li>\n	<li>Rapid Response Business Plan + Why You Need One</li>\n	<li>Q&amp\;A</li>\n</ul>\n
LOCATION:Online Webinar Please make sure to have a computer\, internet connection with audio\, or a telephone to dial in.
UID:e.2083.11845
SEQUENCE:3
DTSTAMP:20260423T114448Z
URL:https://business.cmschamber.org/events/details/free-webinar-3-running-your-business-in-quarantine-a-survival-guide-11845
END:VEVENT

END:VCALENDAR
