BEGIN:VCALENDAR
VERSION:2.0
PRODID:-//ChamberMaster//Event Calendar 2.0//EN
METHOD:PUBLISH
X-PUBLISHED-TTL:P3D
REFRESH-INTERVAL:P3D
CALSCALE:GREGORIAN
BEGIN:VEVENT
DTSTART:20200730T130000Z
DTEND:20200730T133000Z
X-MICROSOFT-CDO-ALLDAYEVENT:FALSE
SUMMARY:FREE Webinar: Perception & Self-Awareness?
DESCRIPTION:Do you know how prospects\, customers and peers perceive you and your team? Do you all know your strengths\, weaknesses? Gain the ability and tools to accurately assess strengths and limitations\, with a new perception of how confidence\, optimism\, and a growth mindset can positively impact relationships. ?Perception is reality and this workshop shows you how to overcome\, embrace and adapt using your newfound self-awareness. \n\n \n\nCertifications:\n\n \n\n	Adapt your approach based on perception \n	Use your weaknesses to your advantage \n	Become self-aware \n	Know your hot buttons \n\n\n\nPlease Use This Link To Register Now: https://www.naifama.org/event-3888175
X-ALT-DESC;FMTTYPE=text/html:<br />\n<span style="font-size:12pt">Do you know how prospects\, customers and peers perceive&nbsp\;you and your team?&nbsp\;Do you all know your strengths\, weaknesses? Gain the ability and tools to accurately assess strengths and limitations\, with a new perception of how confidence\, optimism\, and a growth mindset can positively impact relationships. ?Perception is reality and this workshop shows you how to overcome\, embrace and adapt using your newfound self-awareness.&nbsp\;</span><br />\n&nbsp\;<br />\n<span style="font-size:12pt">Certifications:</span><br />\n&nbsp\;\n<ul>\n	<li><span style="font-size:12pt">Adapt your approach based on perception&nbsp\;</span></li>\n	<li><span style="font-size:12pt">Use your weaknesses to your advantage&nbsp\;</span></li>\n	<li><span style="font-size:12pt">Become self-aware&nbsp\;</span></li>\n	<li><span style="font-size:12pt">Know your hot buttons&nbsp\;</span></li>\n</ul>\n<br />\n<span style="font-size:14px"><strong>Please Use This Link To Register Now:</strong>&nbsp\;</span><a href="https://www.naifama.org/event-3888175" style="color: rgb(5\, 99\, 193)\; font-family: Calibri\, sans-serif\; font-size: 14.666666984558105px\;">https://www.naifama.org/event-3888175</a>
LOCATION:Online Zoom Meeting Link: https://www.naifama.org/event-3888175
UID:e.2083.12189
SEQUENCE:3
DTSTAMP:20260423T065539Z
URL:https://business.cmschamber.org/events/details/free-webinar-perception-self-awareness-12189
END:VEVENT

END:VCALENDAR
