BEGIN:VCALENDAR
VERSION:2.0
PRODID:-//ChamberMaster//Event Calendar 2.0//EN
METHOD:PUBLISH
X-PUBLISHED-TTL:P3D
REFRESH-INTERVAL:P3D
CALSCALE:GREGORIAN
BEGIN:VEVENT
DTSTART:20200812T130000Z
DTEND:20200812T133000Z
X-MICROSOFT-CDO-ALLDAYEVENT:FALSE
SUMMARY:FREE Webinar: Prospecting for Opportunities
DESCRIPTION:Identifying decision-makers\, dealing with rejection\, and finding new ways to generate leads can be daunting. By qualifying the lead and becoming better on the phone and via email\, learn to implement a prospecting sequence to consistently generate meetings.\n\n \n\n         Qualify the buyer\n\n         Implement strategies to bypass gatekeepers \n\n         Respond to standard cold call rejections \n\n         Execute email and voicemail strategies to support your efforts\n\n\n\nPlease Use This Link To Register Now: https://www.naifama.org/event-3888300
X-ALT-DESC;FMTTYPE=text/html:<p><span style="color:black\; font-size:12pt">Identifying decision-makers\, dealing with rejection\, and finding new ways to generate leads can be daunting. By qualifying the lead and becoming better&nbsp\;on the phone and via email\,&nbsp\;</span><span style="color:black\; font-size:12pt">learn to implement a prospecting sequence to consistently generate meetings.</span></p>\n\n<p><span style="font-size:12pt">&nbsp\;</span></p>\n\n<p style="margin-left:0.25in\; margin-right:0in"><span style="font-family:symbol\; font-size:10pt">&middot\;<span style="font-family:times new roman\; font-size:7pt">&nbsp\;&nbsp\;&nbsp\;&nbsp\;&nbsp\;&nbsp\;&nbsp\;&nbsp\;</span></span><span style="font-size:12pt">Qualify the buyer</span></p>\n\n<p style="margin-left:0.25in\; margin-right:0in"><span style="font-family:symbol\; font-size:10pt">&middot\;<span style="font-family:times new roman\; font-size:7pt">&nbsp\;&nbsp\;&nbsp\;&nbsp\;&nbsp\;&nbsp\;&nbsp\;&nbsp\;</span></span><span style="font-size:12pt">Implement strategies to bypass gatekeepers</span><span style="font-size:12pt">&nbsp\;</span></p>\n\n<p style="margin-left:0.25in\; margin-right:0in"><span style="font-family:symbol\; font-size:10pt">&middot\;<span style="font-family:times new roman\; font-size:7pt">&nbsp\;&nbsp\;&nbsp\;&nbsp\;&nbsp\;&nbsp\;&nbsp\;&nbsp\;</span></span><span style="font-size:12pt">Respond to standard cold call rejections</span><span style="font-size:12pt">&nbsp\;</span></p>\n\n<p style="margin-left:0.25in\; margin-right:0in"><span style="font-family:symbol\; font-size:10pt">&middot\;<span style="font-family:times new roman\; font-size:7pt">&nbsp\;&nbsp\;&nbsp\;&nbsp\;&nbsp\;&nbsp\;&nbsp\;&nbsp\;</span></span><span style="font-size:12pt">Execute email and voicemail strategies to support your efforts</span><br />\n<br />\n<strong>Please Use This Link To Register Now:&nbsp\;</strong><a href="https://www.naifama.org/event-3888300" style="color: rgb(5\, 99\, 193)\; font-family: Calibri\, sans-serif\; font-size: 14.666666984558105px\;">https://www.naifama.org/event-3888300</a></p>\n
LOCATION:Online Zoom Meeting Link: https://www.naifama.org/event-3888300
UID:e.2083.12190
SEQUENCE:3
DTSTAMP:20260423T065629Z
URL:https://business.cmschamber.org/events/details/free-webinar-prospecting-for-opportunities-12190
END:VEVENT

END:VCALENDAR
