BEGIN:VCALENDAR
VERSION:2.0
PRODID:-//ChamberMaster//Event Calendar 2.0//EN
METHOD:PUBLISH
X-PUBLISHED-TTL:P3D
REFRESH-INTERVAL:P3D
CALSCALE:GREGORIAN
BEGIN:VEVENT
DTSTART:20200512T180000Z
DTEND:20200512T190000Z
X-MICROSOFT-CDO-ALLDAYEVENT:FALSE
SUMMARY:FREE Webinar: Returning to Work During COVID-19: Occupational Health Guidelines and Best Practices for Cleaning and Disinfection
DESCRIPTION:This webinar will provide an overview of current guidance from the Centers for Disease Control and Prevention (CDC) and Occupational Safety and Health Administration (OSHA) on preparing workplaces for COVID-19\, along with best practices for cleaning and disinfection of your facilities or office spaces.\n\n \n\nAdditional topics will include:\n\n	Risk Assessment\n	Types of Cleaning Products\n	Cleaning v. Disinfection\n	Self-Care\n	What's Right for Your Business\n\n\n \n\nThe objective of this webinar is to provide you with timely and valuable information to help minimize the impact of COVID-19 on your businesses\, employees\, colleagues\, and customers.\n\n \n\nModerator: \n\nMichael P. Mellette\, Sc.D.\, CIH\, CSP\, CHMM\n\nSenior Health Scientist\, Occupational and Environmental Health\, CCA\n\nPanelists:\n\nDiana Gallego\, General Manager\n\nBestPro Cleaning\n\nJeff Johnson\, President\n\nEagle Cleaning\n\nStephen Buchalter\, President\n\nEnterprise Cleaning
X-ALT-DESC;FMTTYPE=text/html:This webinar will provide an overview of current guidance from the Centers for Disease Control and Prevention (CDC) and Occupational Safety and Health Administration (OSHA) on preparing workplaces for COVID-19\, along with best practices for cleaning and disinfection of your facilities or office spaces.<br />\n&nbsp\;<br />\nAdditional topics will include:\n<ul>\n	<li style="margin-left:0in\;">Risk Assessment</li>\n	<li style="margin-left:0in\;">Types of Cleaning Products</li>\n	<li style="margin-left:0in\;">Cleaning v. Disinfection</li>\n	<li style="margin-left:0in\;">Self-Care</li>\n	<li style="margin-left:0in\;">What&rsquo\;s Right for Your Business</li>\n</ul>\n\n<p>&nbsp\;<br />\nThe objective of this webinar is to provide you with timely and valuable information to help minimize the impact of COVID-19 on your businesses\, employees\, colleagues\, and customers.<br />\n&nbsp\;<br />\n<span style="font-size:14px\;"><strong>Moderator:</strong>&nbsp\;<br />\nMichael P. Mellette\, Sc.D.\, CIH\, CSP\, CHMM<br />\nSenior Health Scientist\, Occupational and Environmental Health\, CCA<br />\n<strong>Panelists:</strong><br />\n<span style="color: rgb(51\, 51\, 51)\; font-family: sans-serif\, Arial\, Verdana\, &quot\;Trebuchet MS&quot\;\; background-color: rgb(255\, 255\, 255)\;"><strong>Diana Gallego</strong>\, General Manager</span><br style="color: rgb(51\, 51\, 51)\; font-family: sans-serif\, Arial\, Verdana\, &quot\;Trebuchet MS&quot\;\; font-size: 13px\; background-color: rgb(255\, 255\, 255)\;" />\n<span style="color: rgb(51\, 51\, 51)\; font-family: sans-serif\, Arial\, Verdana\, &quot\;Trebuchet MS&quot\;\; background-color: rgb(255\, 255\, 255)\;">BestPro Cleaning</span><br />\n<strong>Jeff Johnson</strong>\, President<br />\nEagle Cleaning<br />\n<span style="color: rgb(51\, 51\, 51)\; font-family: sans-serif\, Arial\, Verdana\, &quot\;Trebuchet MS&quot\;\; background-color: rgb(255\, 255\, 255)\;"><strong>Stephen Buchalter</strong>\, President</span><br style="color: rgb(51\, 51\, 51)\; font-family: sans-serif\, Arial\, Verdana\, &quot\;Trebuchet MS&quot\;\; font-size: 13px\; background-color: rgb(255\, 255\, 255)\;" />\n<span style="color: rgb(51\, 51\, 51)\; font-family: sans-serif\, Arial\, Verdana\, &quot\;Trebuchet MS&quot\;\; background-color: rgb(255\, 255\, 255)\;">Enterprise Cleaning</span></span></p>\n
LOCATION:Webinar
UID:e.2083.12068
SEQUENCE:3
DTSTAMP:20260423T101241Z
URL:https://business.cmschamber.org/events/details/free-webinar-returning-to-work-during-covid-19-occupational-health-guidelines-and-best-practices-for-cleaning-and-disinfection-12068
END:VEVENT

END:VCALENDAR
