BEGIN:VCALENDAR
VERSION:2.0
PRODID:-//ChamberMaster//Event Calendar 2.0//EN
METHOD:PUBLISH
X-PUBLISHED-TTL:P3D
REFRESH-INTERVAL:P3D
CALSCALE:GREGORIAN
BEGIN:VEVENT
DTSTART:20200507T140000Z
DTEND:20200507T150000Z
X-MICROSOFT-CDO-ALLDAYEVENT:FALSE
SUMMARY:FREE Webinar: Strategy for COVID-19 Financial Relief: Restructuring Your Business Loans
DESCRIPTION:Strategy for COVID-19 Financial Relief: Restructuring Your Business Loans\n\n\n\nPlease REGISTER HERE: https://register.gotowebinar.com/register/431455366364562444\n\n \n\nOn March 9\, 2020\, the Federal Reserve\, Office of the Comptroller of the Currency\, Federal Deposit Insurance Corp.\, Consumer Financial Protection Bureau\, National Credit Union Administration\, and Conference of State Bank Supervisors issued a joint statement to financial institutions urging them to work with customers to resolve pandemic-related issues. Since that initial statement\, the CARES ACT and CARES ACT 2.0 have been signed into law and bank regulators have issued significant additional guidance and emergency regulations. Taken together\, the new laws\, regulations and regulatory guidance have created a new landscape of loan restructuring alternatives for financial institutions and provide businesses adversely impacted by COVID-19 to seek to restructure their outstanding commercial loans. Join this webinar to learn about these changes and more\, such as:\n\n \n\n	Why you should consider restructuring your business loan\n	When and how to approach your bank\n	Possible payment accommodations and covenant relief\n	Changes to reporting to credit agencies and other regulatory reporting\n\n \n\nGeorge Tetler and Tim Monahan are commercial finance attorneys with Bowditch & Dewey LLP.  Banks and other financial institutions\, investors\, boards of directors\, business owners and nonprofit organizations throughout New England seek their help with debt and equity financings\, capital investments\, restructurings\, mergers and acquisitions and business planning matters.\n\n\n\nPlease REGISTER here: https://register.gotowebinar.com/register/431455366364562444
X-ALT-DESC;FMTTYPE=text/html:<strong>Strategy for COVID-19 Financial Relief: Restructuring Your Business Loans<br />\n<br />\n<span style="font-size:18px\;">Please REGISTER HERE:&nbsp\;<a href="https://register.gotowebinar.com/register/431455366364562444">https://register.gotowebinar.com/register/431455366364562444</a></span></strong><br />\n&nbsp\;<br />\nOn March 9\, 2020\, the Federal Reserve\, Office of the Comptroller of the Currency\, Federal Deposit Insurance Corp.\, Consumer Financial Protection Bureau\, National Credit Union Administration\, and Conference of State Bank Supervisors issued a&nbsp\;<a href="https://www.fdic.gov/news/news/press/2020/pr20025.html" target="_blank" title="joint statement">joint statement</a>&nbsp\;to financial institutions urging them to work with customers to resolve pandemic-related issues. Since that initial statement\, the CARES ACT and CARES ACT 2.0 have been signed into law and bank regulators have issued significant additional guidance and emergency regulations. Taken together\, the new laws\, regulations and regulatory guidance have created a new landscape of loan restructuring alternatives for financial institutions and provide businesses adversely impacted by COVID-19 to seek to restructure their outstanding commercial loans. Join this webinar to learn about these changes and more\, such as:<br />\n&nbsp\;\n<ul>\n	<li style="margin-left:0in\;">Why you should consider restructuring your business loan</li>\n	<li style="margin-left:0in\;">When and how to approach your bank</li>\n	<li style="margin-left:0in\;">Possible payment accommodations and covenant relief</li>\n	<li style="margin-left:0in\;">Changes to reporting to credit agencies and other regulatory reporting</li>\n</ul>\n&nbsp\;<br />\n<a href="https://www.bowditch.com/attorney/george-w-tetler-iii/">George Tetler</a> and <a href="https://www.bowditch.com/attorney/timothy-c-monahan/">Tim Monahan</a> are commercial finance attorneys with Bowditch &amp\; Dewey LLP.&nbsp\; Banks and other financial institutions\, investors\, boards of directors\, business owners and nonprofit organizations throughout New England seek their help with debt and equity financings\, capital investments\, restructurings\, mergers and acquisitions and business planning matters.<br />\n<br />\nPlease REGISTER here:&nbsp\;<a href="https://register.gotowebinar.com/register/431455366364562444">https://register.gotowebinar.com/register/431455366364562444</a>
LOCATION:Webinar
UID:e.2083.12067
SEQUENCE:3
DTSTAMP:20260423T101158Z
URL:https://business.cmschamber.org/events/details/free-webinar-strategy-for-covid-19-financial-relief-restructuring-your-business-loans-12067
END:VEVENT

END:VCALENDAR
