BEGIN:VCALENDAR
VERSION:2.0
PRODID:-//ChamberMaster//Event Calendar 2.0//EN
METHOD:PUBLISH
X-PUBLISHED-TTL:P3D
REFRESH-INTERVAL:P3D
CALSCALE:GREGORIAN
BEGIN:VEVENT
DTSTART:20200805T190000Z
DTEND:20200805T203000Z
X-MICROSOFT-CDO-ALLDAYEVENT:FALSE
SUMMARY:FREE Webinar: Top 10 Workshop
DESCRIPTION:What makes you the perfect candidate for the job?? Maybe you have a resume you like or you screen well but have a hard time articulating your value proposition.? MindsetGo offers you a tool to connect your strengths with talking points and stories that articulate your value. Present and 'sell' yourself succinctly and with more confidence to influence decision makers.? Demonstrate your personal characteristics that convey your problem-solving\, decision-making and critical thinking skills. Learn and develop YOUR Top 10 talents\, qualities and characteristics to differentiate yourself from the competition. Take the initiative and build on your gifts to: \n\n \n\n         Put the right spin on your abilities to fit the needs \n\n         Better understand your gifts and how to leverage them\n\n         Make yourself appealing as THE hire by articulating the right messages \n\n         Capture Your Audience's Attention with Storytelling? \n\n         Demonstrate Storytelling Skills to Enhance Your Presentation \n\n         Choose the most efficient words to convey your point? \n\n\n\nemail Dina Kanabar @ dkanabar@westfordma.gov to sign up and receive a zoom link.
X-ALT-DESC;FMTTYPE=text/html:<p>What makes you the perfect candidate for the job?? Maybe you have a resume you like or you screen well but have a hard time articulating your value proposition.?&nbsp\;MindsetGo&nbsp\;offers you a tool to connect your strengths with talking points and stories that articulate your value. Present and &lsquo\;sell&rsquo\; yourself succinctly and with more confidence to influence decision makers.? Demonstrate your personal characteristics that convey your problem-solving\, decision-making and critical thinking skills. Learn and develop YOUR Top 10 talents\, qualities and characteristics to differentiate yourself from the competition. Take the initiative and build on your gifts to:&nbsp\;</p>\n\n<p>&nbsp\;</p>\n\n<p style="margin-left:0.25in\; margin-right:0in"><span style="font-family:symbol\; font-size:10pt">&middot\;<span style="font-family:times new roman\; font-size:7pt">&nbsp\;&nbsp\;&nbsp\;&nbsp\;&nbsp\;&nbsp\;&nbsp\;&nbsp\;</span></span>Put the right spin on your abilities to fit the needs&nbsp\;</p>\n\n<p style="margin-left:0.25in\; margin-right:0in"><span style="font-family:symbol\; font-size:10pt">&middot\;<span style="font-family:times new roman\; font-size:7pt">&nbsp\;&nbsp\;&nbsp\;&nbsp\;&nbsp\;&nbsp\;&nbsp\;&nbsp\;</span></span>Better understand your gifts and how to leverage them</p>\n\n<p style="margin-left:0.25in\; margin-right:0in"><span style="font-family:symbol\; font-size:10pt">&middot\;<span style="font-family:times new roman\; font-size:7pt">&nbsp\;&nbsp\;&nbsp\;&nbsp\;&nbsp\;&nbsp\;&nbsp\;&nbsp\;</span></span>Make yourself appealing as THE hire by articulating the right messages&nbsp\;</p>\n\n<p style="margin-left:0.25in\; margin-right:0in"><span style="font-family:symbol\; font-size:10pt">&middot\;<span style="font-family:times new roman\; font-size:7pt">&nbsp\;&nbsp\;&nbsp\;&nbsp\;&nbsp\;&nbsp\;&nbsp\;&nbsp\;</span></span>Capture Your Audience&#39\;s Attention with Storytelling?&nbsp\;</p>\n\n<p style="margin-left:0.25in\; margin-right:0in"><span style="font-family:symbol\; font-size:10pt">&middot\;<span style="font-family:times new roman\; font-size:7pt">&nbsp\;&nbsp\;&nbsp\;&nbsp\;&nbsp\;&nbsp\;&nbsp\;&nbsp\;</span></span>Demonstrate Storytelling Skills to Enhance Your Presentation&nbsp\;</p>\n\n<p style="margin-left:0.25in\; margin-right:0in"><span style="font-family:symbol\; font-size:10pt">&middot\;<span style="font-family:times new roman\; font-size:7pt">&nbsp\;&nbsp\;&nbsp\;&nbsp\;&nbsp\;&nbsp\;&nbsp\;&nbsp\;</span></span>Choose&nbsp\;the most efficient words to convey your point?&nbsp\;<br />\n<br />\n<strong><span style="font-size:14px"><span style="font-family:calibri\,sans-serif">email Dina Kanabar @&nbsp\;</span><a href="mailto:dkanabar@westfordma.gov" style="color: rgb(5\, 99\, 193)\; font-family: Calibri\, sans-serif\; font-size: 14.666666984558105px\;">dkanabar@westfordma.gov</a><span style="font-family:calibri\,sans-serif">&nbsp\;to sign up and receive a zoom link.</span></span></strong></p>\n
LOCATION:Online Zoom Meeting Please email Dina Kanabar @ dkanabar@westfordma.gov to sign up and receive a zoom link.
UID:e.2083.12165
SEQUENCE:3
DTSTAMP:20260423T070510Z
URL:https://business.cmschamber.org/events/details/free-webinar-top-10-workshop-12165
END:VEVENT

END:VCALENDAR
