BEGIN:VCALENDAR
VERSION:2.0
PRODID:-//ChamberMaster//Event Calendar 2.0//EN
METHOD:PUBLISH
X-PUBLISHED-TTL:P3D
REFRESH-INTERVAL:P3D
CALSCALE:GREGORIAN
BEGIN:VEVENT
DTSTART:20220224T190000Z
DTEND:20220224T213000Z
X-MICROSOFT-CDO-ALLDAYEVENT:FALSE
SUMMARY:Fresh Start Presents: Community Meets City and State: A solution focused discussion surrounding mental health\, violence prevention & intervention and diversion programs.
DESCRIPTION:Fresh Start Presents\n\nCommunity Meets City and State: \n\nA solution focused discussion surrounding mental health\, violence prevention & intervention and diversion programs. \n\nFresh Start Presents is giving panelists and community partners a platform to showcase their current initiatives.
X-ALT-DESC;FMTTYPE=text/html:<p><span style="font-size:12px"><strong>Fresh Start Presents</strong></span></p>\n\n<p><span style="font-size:12px"><span style="background-color:transparent\; color:rgb(0\, 0\, 0)\; font-family:arial">Community Meets City and State:&nbsp\;</span></span></p>\n\n<p><span style="font-size:12px"><em>A solution focused discussion surrounding mental health\, violence prevention &amp\; intervention and diversion programs.&nbsp\;</em></span></p>\n\n<p><span style="font-size:12px"><span style="color:rgb(34\, 34\, 34)\; font-family:arial">Fresh Start Presents is giving panelists and community partners a platform to showcase their current initiatives.</span></span></p>\n
LOCATION:https://www.google.com/maps/place/486+Chandler+St\,+Worcester\,+MA+01602/@42.2707977\,-71.8449612\,17z/data=!3m1!4b1!4m5!3m4!1s0x89e406bbd907cb19:0xcd6641ca43309a53!8m2!3d42.2707977!4d-71.8427725
UID:e.2083.13814
SEQUENCE:3
DTSTAMP:20260422T021943Z
URL:https://business.cmschamber.org/events/details/fresh-start-presents-community-meets-city-and-state-a-solution-focused-discussion-surrounding-mental-health-violence-prevention-intervention-and-diversion-programs-13814
END:VEVENT

END:VCALENDAR
