BEGIN:VCALENDAR
VERSION:2.0
PRODID:-//ChamberMaster//Event Calendar 2.0//EN
METHOD:PUBLISH
X-PUBLISHED-TTL:P3D
REFRESH-INTERVAL:P3D
CALSCALE:GREGORIAN
BEGIN:VEVENT
DTSTART:20230316T180000Z
DTEND:20230316T190000Z
X-MICROSOFT-CDO-ALLDAYEVENT:FALSE
SUMMARY:Full Disclosure – Tips\, Tricks and Traps for the Unwary in Navigating Public Finance Disclosure Obligations (Part I – The Current Disclosure Landscape in Public Finance)
DESCRIPTION:Given the increasing SEC scrutiny on disclosure practices in municipal finance\, governmental issuers and conduit borrowers [e.g.\, 501(c)(3) corporations] are taking a fresh look at their disclosure policies and procedures\, developing best practices to confirm compliance with federal securities law requirements.\n\nJoin Neal Pandozzi and Andrew Stern from Bowditch's Public Finance team as they offer a practical guide for complying with the necessary disclosure requirements\, including:\n\n\n	Preparing the offering circular in connection with the public sale of municipal bonds\n	Ongoing disclosure requirements once the bonds are issued\n	Impact of other public statements in relation to the antifraud provisions\n	Guidelines for preparing effective disclosure policies and procedures\n	Environmental\, social and governance (ESG) matters\n	Cybersecurity-related disclosure
X-ALT-DESC;FMTTYPE=text/html:<p>Given the increasing SEC scrutiny on disclosure practices in municipal finance\, governmental issuers and conduit borrowers [e.g.\, 501(c)(3) corporations] are taking a fresh look at their disclosure policies and procedures\, developing best practices to confirm compliance with federal securities law requirements.</p>\n\n<p>Join Neal Pandozzi and Andrew Stern from Bowditch&rsquo\;s Public Finance team as they offer a practical guide for complying with the necessary disclosure requirements\, including:</p>\n\n<ul>\n	<li>Preparing the offering circular in connection with the public sale of municipal bonds</li>\n	<li>Ongoing disclosure requirements once the bonds are issued</li>\n	<li>Impact of other public statements in relation to the antifraud provisions</li>\n	<li>Guidelines for preparing effective disclosure policies and procedures</li>\n	<li>Environmental\, social and governance (ESG) matters</li>\n	<li>Cybersecurity-related disclosure</li>\n</ul>\n
LOCATION:Webinar
UID:e.2083.15468
SEQUENCE:3
DTSTAMP:20260421T060147Z
URL:https://business.cmschamber.org/events/details/full-disclosure-tips-tricks-and-traps-for-the-unwary-in-navigating-public-finance-disclosure-obligations-part-i-the-current-disclosure-landscape-in-public-finance-15468
END:VEVENT

END:VCALENDAR
