BEGIN:VCALENDAR
VERSION:2.0
PRODID:-//ChamberMaster//Event Calendar 2.0//EN
METHOD:PUBLISH
X-PUBLISHED-TTL:P3D
REFRESH-INTERVAL:P3D
CALSCALE:GREGORIAN
BEGIN:VEVENT
DTSTART:20191112T220000Z
DTEND:20191113T000000Z
X-MICROSOFT-CDO-ALLDAYEVENT:FALSE
SUMMARY:Fun at Five Networking
DESCRIPTION:Fun at Five!\n\nTuesday\, November 12\n\n5:00-7:00pm\nMexicali Mexican Grill\n\n117 Main Street\, Spencer\, 774-745-8200\n\nwww.MexicaliGrillRestaurant.com\n\n"Taco Tuesday" Networking... at Mexicali in Spencer!\n\nAt Mexicali\, everyone works together\, not only as a team\, but as a family. When guests come to dine at Mexicali Mexican Grill\, they are treated just that way\, like a part of our family. Mexicali is the local destination for the freshest authentic Mexican food! Not only will you feel the difference\, we guarantee you will taste the difference! Join Mexicali every Taco Tuesday after 3:00pm and don't miss their Customer Appreciation Night coming on November 21 at 5:00pm!\n\nDid you know... Mexicali offers fundraisers for all non-profit organizations? Sign up today! Call Mexicali and ask Liz Hernandez for all the info!\n\nEveryone goes home a Winner!\n\nAll of our guests will receive a Klem's Gift Card!\n\nMinimum value $10.00\n\n2 cards will have a value of $50.\n\n1 card will have a value of $100.\n\n1 card will have a value of $200!\n\nThanks to our amazing sponsor: Klem's!\n\n\n\nWe hope you will join us!\n\nRSVP\n\nby phone at 508-347-2761 or email info@cmschamber.org\n\nThank you to our November Fun at Five Sponsor!\n\nKlem's is your local destination for all your holiday needs. We have a large expanded gift section with great brands like Vera Bradley\, Hallmark\, Willow Tree and much more. Our apparel department features Carhartt\, Columbia\,\n\nWoolrich and Life is Good.\n\nOur Greenhouse is a winter wonderland with everything you need to make your Christmas Merry\, and our toy department features specialty and learning toys.\n\nKlem's is now your local Stihl power dealer.\n\n\n\nWe want to help you\, so whether it's a question on training your dog\, fixing your snow blower\, or finding the perfect gift\, we are here to help and answer all of your questions.\n\nStop in and enjoy some free popcorn!\n\n\n\n117 West Main Street\, Spencer\, MA 508-885-2708 \n\nwww.KlemsOnline.com
X-ALT-DESC;FMTTYPE=text/html:<span style="font-size:12pt"><strong>Fun at Five!</strong></span><br />\n<strong>Tuesday\, November 12</strong><br />\n5:00-7:00pm\n<p><strong>Mexicali Mexican Grill</strong><br />\n117 Main Street\, Spencer\, 774-745-8200<br />\n<a href="http://www.MexicaliGrillRestaurant.com" rel="noopener" target="_blank">www.MexicaliGrillRestaurant.com</a></p>\n\n<p><strong>&quot\;Taco Tuesday&quot\; Networking... at Mexicali in Spencer!</strong><br />\nAt Mexicali\, everyone works together\, not only as a team\, but as a family. When guests come to dine at Mexicali Mexican Grill\, they are treated just that way\, like a part of our family. Mexicali is the local destination for the freshest authentic Mexican food! Not only will you feel the difference\, we guarantee you will taste the difference! Join Mexicali every <strong>Taco Tuesday after 3:00pm</strong> and don&#39\;t miss their <strong>Customer Appreciation Night coming on November 21 at 5:00pm!</strong></p>\n\n<p><strong>Did you know...</strong> Mexicali offers fundraisers for all non-profit organizations? Sign up today! Call Mexicali and ask Liz Hernandez for all the info!</p>\n\n<p><strong>Everyone goes home a Winner!</strong><br />\nAll of our guests will receive a Klem&#39\;s Gift Card!<br />\nMinimum value $10.00<br />\n2 cards will have a value of $50.<br />\n1 card will have a value of $100.<br />\n1 card will have a value of $200!<br />\nThanks to our amazing sponsor: Klem&#39\;s!<br />\n<br />\n<em>We hope you will join us!</em></p>\n\n<p><strong>RSVP</strong><br />\nby phone at 508-347-2761 or email info@cmschamber.org</p>\n\n<p><strong>Thank you to our November Fun at Five Sponsor!</strong></p>\n\n<p><strong>Klem&#39\;s</strong> is your local destination for all your holiday needs. We have a large expanded gift section with great brands like Vera Bradley\, Hallmark\, Willow Tree and much more. Our apparel department features Carhartt\, Columbia\,<br />\nWoolrich and Life is Good.</p>\n\n<p>Our Greenhouse is a winter wonderland with everything you need to make your Christmas Merry\, and our toy department features specialty and learning toys.<br />\nKlem&rsquo\;s is now your local Stihl power dealer.<br />\n<br />\nWe want to help you\, so whether it&#39\;s a question on training your dog\, fixing your snow blower\, or finding the perfect gift\, we are here to help and answer all of your questions.<br />\nStop in and enjoy some free popcorn!<br />\n<br />\n<strong>117 West Main Street\, Spencer\, MA 508-885-2708 </strong><br />\n<strong><a href="http://www.KlemsOnline.com" rel="noopener" target="_blank">www.KlemsOnline.com</a></strong></p>\n
LOCATION:Mexicali Mexican Grill 117 Main Street\, Spencer
UID:e.2083.11627
SEQUENCE:3
DTSTAMP:20260423T211131Z
URL:https://business.cmschamber.org/events/details/fun-at-five-networking-11-12-2019-11627
END:VEVENT

END:VCALENDAR
